BEGIN:VCALENDAR
PRODID:-//eluceo/ical//2.0/EN
VERSION:2.0
CALSCALE:GREGORIAN
BEGIN:VEVENT
UID:32563afefe9c7758d3fe78bf99d02b2a
DTSTAMP:20260422T121538Z
SUMMARY:Bob Dassie's Improv Mindset (1/6)
DESCRIPTION:taught by Bob Dassie\nat Anthony Meindl Studios
DTSTART;TZID=America/Los_Angeles:20240514T190000
DTEND;TZID=America/Los_Angeles:20240514T220000
LOCATION:Anthony Meindl Studios
END:VEVENT
BEGIN:VEVENT
UID:f8b1124be6a8c1e0626e2360d0dea006
DTSTAMP:20260422T121538Z
SUMMARY:Bob Dassie's Improv Mindset (2/6)
DESCRIPTION:taught by Bob Dassie\nat Anthony Meindl Studios
DTSTART;TZID=America/Los_Angeles:20240521T190000
DTEND;TZID=America/Los_Angeles:20240521T220000
LOCATION:Anthony Meindl Studios
END:VEVENT
BEGIN:VEVENT
UID:3f2c1d03c66ce441f643f1c7d4f82865
DTSTAMP:20260422T121538Z
SUMMARY:Bob Dassie's Improv Mindset (3/6)
DESCRIPTION:taught by Bob Dassie\nat Anthony Meindl Studios
DTSTART;TZID=America/Los_Angeles:20240528T190000
DTEND;TZID=America/Los_Angeles:20240528T220000
LOCATION:Anthony Meindl Studios
END:VEVENT
BEGIN:VEVENT
UID:8029b48e315e89801715ac3ea7c6a72a
DTSTAMP:20260422T121538Z
SUMMARY:Bob Dassie's Improv Mindset (4/6)
DESCRIPTION:taught by Bob Dassie\nat Anthony Meindl Studios
DTSTART;TZID=America/Los_Angeles:20240604T190000
DTEND;TZID=America/Los_Angeles:20240604T220000
LOCATION:Anthony Meindl Studios
END:VEVENT
BEGIN:VEVENT
UID:bef9706d8b76864f908ce5fdc59b0580
DTSTAMP:20260422T121538Z
SUMMARY:Bob Dassie's Improv Mindset (5/6)
DESCRIPTION:taught by Bob Dassie\nat Anthony Meindl Studios
DTSTART;TZID=America/Los_Angeles:20240611T190000
DTEND;TZID=America/Los_Angeles:20240611T220000
LOCATION:Anthony Meindl Studios
END:VEVENT
BEGIN:VEVENT
UID:28be43d66afb947b06c170ef9b5661b5
DTSTAMP:20260422T121538Z
SUMMARY:Bob Dassie's Improv Mindset (6/6)
DESCRIPTION:taught by Bob Dassie\nat Anthony Meindl Studios
DTSTART;TZID=America/Los_Angeles:20240618T190000
DTEND;TZID=America/Los_Angeles:20240618T220000
LOCATION:Anthony Meindl Studios
END:VEVENT
BEGIN:VTIMEZONE
TZID:America/Los_Angeles
BEGIN:DAYLIGHT
DTSTART:20260401T000000
TZNAME:PDT
TZOFFSETTO:-0700
TZOFFSETFROM:-0700
END:DAYLIGHT
END:VTIMEZONE
END:VCALENDAR
