BEGIN:VCALENDAR
PRODID:-//eluceo/ical//2.0/EN
VERSION:2.0
CALSCALE:GREGORIAN
BEGIN:VEVENT
UID:237969595908db9cbecff2c0eba05189
DTSTAMP:20260419T203802Z
SUMMARY:Night Bitness - June 2024 (1/2)
DESCRIPTION:taught by Joel Spence\nat Clubhouse Downstairs
DTSTART;TZID=America/Los_Angeles:20240605T180000
DTEND;TZID=America/Los_Angeles:20240605T200000
LOCATION:Clubhouse Downstairs
END:VEVENT
BEGIN:VEVENT
UID:3e0348e956a72879ec3ba8aa35029fa4
DTSTAMP:20260419T203802Z
SUMMARY:Night Bitness - June 2024 (2/2)
DESCRIPTION:taught by Joel Spence\nat Clubhouse Downstairs
DTSTART;TZID=America/Los_Angeles:20240627T180000
DTEND;TZID=America/Los_Angeles:20240627T200000
LOCATION:Clubhouse Downstairs
END:VEVENT
BEGIN:VTIMEZONE
TZID:America/Los_Angeles
BEGIN:DAYLIGHT
DTSTART:20260401T000000
TZNAME:PDT
TZOFFSETTO:-0700
TZOFFSETFROM:-0700
END:DAYLIGHT
END:VTIMEZONE
END:VCALENDAR
