BEGIN:VCALENDAR
PRODID:-//eluceo/ical//2.0/EN
VERSION:2.0
CALSCALE:GREGORIAN
BEGIN:VEVENT
UID:f73a15cef952876a336f69f8d2fc7038
DTSTAMP:20260421T081634Z
SUMMARY:Advanced Game of the Scene (1/6)
DESCRIPTION:taught by Sarah Claspell\nat Anthony Meindl Studios
DTSTART;TZID=America/Los_Angeles:20240713T120000
DTEND;TZID=America/Los_Angeles:20240713T150000
LOCATION:Anthony Meindl Studios
END:VEVENT
BEGIN:VEVENT
UID:1de10803d31fb776230215b5a2e99540
DTSTAMP:20260421T081634Z
SUMMARY:Advanced Game of the Scene (2/6)
DESCRIPTION:taught by Sarah Claspell\nat Anthony Meindl Studios
DTSTART;TZID=America/Los_Angeles:20240720T120000
DTEND;TZID=America/Los_Angeles:20240720T150000
LOCATION:Anthony Meindl Studios
END:VEVENT
BEGIN:VEVENT
UID:0e48efc27c18051ddc62f6bcdbf7bf95
DTSTAMP:20260421T081634Z
SUMMARY:Advanced Game of the Scene (3/6)
DESCRIPTION:taught by Sarah Claspell\nat Anthony Meindl Studios
DTSTART;TZID=America/Los_Angeles:20240727T120000
DTEND;TZID=America/Los_Angeles:20240727T150000
LOCATION:Anthony Meindl Studios
END:VEVENT
BEGIN:VEVENT
UID:420e7aa7390dce356c4af3f342634db3
DTSTAMP:20260421T081634Z
SUMMARY:Advanced Game of the Scene (4/6)
DESCRIPTION:taught by Sarah Claspell\nat Anthony Meindl Studios
DTSTART;TZID=America/Los_Angeles:20240803T120000
DTEND;TZID=America/Los_Angeles:20240803T150000
LOCATION:Anthony Meindl Studios
END:VEVENT
BEGIN:VEVENT
UID:80032e9ef612317f57dad511acd18ade
DTSTAMP:20260421T081634Z
SUMMARY:Advanced Game of the Scene (5/6)
DESCRIPTION:taught by Sarah Claspell\nat Anthony Meindl Studios
DTSTART;TZID=America/Los_Angeles:20240810T120000
DTEND;TZID=America/Los_Angeles:20240810T150000
LOCATION:Anthony Meindl Studios
END:VEVENT
BEGIN:VEVENT
UID:108b459ac4bb740904844b9353201a4b
DTSTAMP:20260421T081634Z
SUMMARY:Advanced Game of the Scene (6/6)
DESCRIPTION:taught by Sarah Claspell\nat Anthony Meindl Studios
DTSTART;TZID=America/Los_Angeles:20240817T120000
DTEND;TZID=America/Los_Angeles:20240817T150000
LOCATION:Anthony Meindl Studios
END:VEVENT
BEGIN:VTIMEZONE
TZID:America/Los_Angeles
BEGIN:DAYLIGHT
DTSTART:20260401T000000
TZNAME:PDT
TZOFFSETTO:-0700
TZOFFSETFROM:-0700
END:DAYLIGHT
END:VTIMEZONE
END:VCALENDAR
