BEGIN:VCALENDAR
PRODID:-//eluceo/ical//2.0/EN
VERSION:2.0
CALSCALE:GREGORIAN
BEGIN:VEVENT
UID:7f9f5e952331c739471d48a04acf0881
DTSTAMP:20260419T204717Z
SUMMARY:Individual Challenges (1/1)
DESCRIPTION:taught by Sarah Claspell\nat Anthony Meindl Studios
DTSTART;TZID=America/Los_Angeles:20240616T113000
DTEND;TZID=America/Los_Angeles:20240616T143000
LOCATION:Anthony Meindl Studios
END:VEVENT
BEGIN:VTIMEZONE
TZID:America/Los_Angeles
BEGIN:DAYLIGHT
DTSTART:20260401T000000
TZNAME:PDT
TZOFFSETTO:-0700
TZOFFSETFROM:-0700
END:DAYLIGHT
END:VTIMEZONE
END:VCALENDAR
