BEGIN:VCALENDAR
PRODID:-//eluceo/ical//2.0/EN
VERSION:2.0
CALSCALE:GREGORIAN
BEGIN:VEVENT
UID:2379a41428a22fc069f6dd6d4400a9dd
DTSTAMP:20260423T084936Z
SUMMARY:After-Noon Bitness - October 2024 (1/2)
DESCRIPTION:taught by Will Hines and Sarah Claspell\nat WGIS Space
DTSTART;TZID=America/Los_Angeles:20241007T141500
DTEND;TZID=America/Los_Angeles:20241007T161500
LOCATION:WGIS Space
END:VEVENT
BEGIN:VEVENT
UID:39d892e6272427ae8c4d8e5680e58a95
DTSTAMP:20260423T084936Z
SUMMARY:After-Noon Bitness - October 2024 (2/2)
DESCRIPTION:taught by Will Hines and Sarah Claspell\nat WGIS Space
DTSTART;TZID=America/Los_Angeles:20241025T180000
DTEND;TZID=America/Los_Angeles:20241025T190000
LOCATION:WGIS Space
END:VEVENT
BEGIN:VTIMEZONE
TZID:America/Los_Angeles
BEGIN:DAYLIGHT
DTSTART:20260401T000000
TZNAME:PDT
TZOFFSETTO:-0700
TZOFFSETFROM:-0700
END:DAYLIGHT
END:VTIMEZONE
END:VCALENDAR
