BEGIN:VCALENDAR
PRODID:-//eluceo/ical//2.0/EN
VERSION:2.0
CALSCALE:GREGORIAN
BEGIN:VEVENT
UID:c4476e2bdd7bad0b66d5ac053d3c3ba2
DTSTAMP:20260421T081737Z
SUMMARY:Improv Confidence Boost (1/1)
DESCRIPTION:taught by Sarah Claspell\nat WGIS Space
DTSTART;TZID=America/Los_Angeles:20250104T153000
DTEND;TZID=America/Los_Angeles:20250104T183000
LOCATION:WGIS Space
END:VEVENT
BEGIN:VTIMEZONE
TZID:America/Los_Angeles
BEGIN:DAYLIGHT
DTSTART:20260401T000000
TZNAME:PDT
TZOFFSETTO:-0700
TZOFFSETFROM:-0700
END:DAYLIGHT
END:VTIMEZONE
END:VCALENDAR
