BEGIN:VCALENDAR
PRODID:-//eluceo/ical//2.0/EN
VERSION:2.0
CALSCALE:GREGORIAN
BEGIN:VEVENT
UID:91cb19919dc94ecd5774662bbd5a327e
DTSTAMP:20260422T134331Z
SUMMARY:The Improvised Sitcom (1/7)
DESCRIPTION:taught by Mike McLendon\nat Clubhouse Downstairs
DTSTART;TZID=America/Los_Angeles:20250406T123000
DTEND;TZID=America/Los_Angeles:20250406T150000
LOCATION:Clubhouse Downstairs
END:VEVENT
BEGIN:VEVENT
UID:3939aa428cdff713c5d4c3e7f64a8a6d
DTSTAMP:20260422T134331Z
SUMMARY:The Improvised Sitcom (2/7)
DESCRIPTION:taught by Mike McLendon\nat Clubhouse Downstairs
DTSTART;TZID=America/Los_Angeles:20250413T123000
DTEND;TZID=America/Los_Angeles:20250413T150000
LOCATION:Clubhouse Downstairs
END:VEVENT
BEGIN:VEVENT
UID:ab52bb9c5154b807108f517552ae26d9
DTSTAMP:20260422T134331Z
SUMMARY:The Improvised Sitcom (3/7)
DESCRIPTION:taught by Mike McLendon\nat Clubhouse Downstairs
DTSTART;TZID=America/Los_Angeles:20250420T123000
DTEND;TZID=America/Los_Angeles:20250420T150000
LOCATION:Clubhouse Downstairs
END:VEVENT
BEGIN:VEVENT
UID:1c2dd823ab76e4d7cd8d98482b2f8a43
DTSTAMP:20260422T134331Z
SUMMARY:The Improvised Sitcom (4/7)
DESCRIPTION:taught by Mike McLendon\nat Clubhouse Downstairs
DTSTART;TZID=America/Los_Angeles:20250427T123000
DTEND;TZID=America/Los_Angeles:20250427T150000
LOCATION:Clubhouse Downstairs
END:VEVENT
BEGIN:VEVENT
UID:bbf90086e2f1cfe337ccc9aaccf5d741
DTSTAMP:20260422T134331Z
SUMMARY:The Improvised Sitcom (5/7)
DESCRIPTION:taught by Mike McLendon\nat Clubhouse Downstairs
DTSTART;TZID=America/Los_Angeles:20250504T123000
DTEND;TZID=America/Los_Angeles:20250504T150000
LOCATION:Clubhouse Downstairs
END:VEVENT
BEGIN:VEVENT
UID:acc81acdfd40e71e2086454ec89fb826
DTSTAMP:20260422T134331Z
SUMMARY:The Improvised Sitcom (6/7)
DESCRIPTION:taught by Mike McLendon\nat Clubhouse Downstairs
DTSTART;TZID=America/Los_Angeles:20250511T123000
DTEND;TZID=America/Los_Angeles:20250511T150000
LOCATION:Clubhouse Downstairs
END:VEVENT
BEGIN:VEVENT
UID:73f5ab01f0bb19bd0b4acb0b6ea00592
DTSTAMP:20260422T134331Z
SUMMARY:The Improvised Sitcom (7/7)
DESCRIPTION:taught by Mike McLendon\nat WGIS Space
DTSTART;TZID=America/Los_Angeles:20250515T180000
DTEND;TZID=America/Los_Angeles:20250515T190000
LOCATION:WGIS Space
END:VEVENT
BEGIN:VTIMEZONE
TZID:America/Los_Angeles
BEGIN:DAYLIGHT
DTSTART:20260401T000000
TZNAME:PDT
TZOFFSETTO:-0700
TZOFFSETFROM:-0700
END:DAYLIGHT
END:VTIMEZONE
END:VCALENDAR
