BEGIN:VCALENDAR
PRODID:-//eluceo/ical//2.0/EN
VERSION:2.0
CALSCALE:GREGORIAN
BEGIN:VEVENT
UID:78814eb34096e40e6c2f70800bb12354
DTSTAMP:20260421T045816Z
SUMMARY:Be A Fun Voice of Reason (1/3)
DESCRIPTION:taught by Rachel Van Nes\nat Anthony Meindl Studios
DTSTART;TZID=America/Los_Angeles:20250303T190000
DTEND;TZID=America/Los_Angeles:20250303T213000
LOCATION:Anthony Meindl Studios
END:VEVENT
BEGIN:VEVENT
UID:7a8323b30c9789de30a2efc5fa6daf77
DTSTAMP:20260421T045816Z
SUMMARY:Be A Fun Voice of Reason (2/3)
DESCRIPTION:taught by Rachel Van Nes\nat Anthony Meindl Studios
DTSTART;TZID=America/Los_Angeles:20250310T190000
DTEND;TZID=America/Los_Angeles:20250310T213000
LOCATION:Anthony Meindl Studios
END:VEVENT
BEGIN:VEVENT
UID:4a958979ab4dea69fecac3ed95b932b6
DTSTAMP:20260421T045816Z
SUMMARY:Be A Fun Voice of Reason (3/3)
DESCRIPTION:taught by Rachel Van Nes\nat Anthony Meindl Studios
DTSTART;TZID=America/Los_Angeles:20250317T190000
DTEND;TZID=America/Los_Angeles:20250317T213000
LOCATION:Anthony Meindl Studios
END:VEVENT
BEGIN:VTIMEZONE
TZID:America/Los_Angeles
BEGIN:DAYLIGHT
DTSTART:20260401T000000
TZNAME:PDT
TZOFFSETTO:-0700
TZOFFSETFROM:-0700
END:DAYLIGHT
END:VTIMEZONE
END:VCALENDAR
