BEGIN:VCALENDAR
PRODID:-//eluceo/ical//2.0/EN
VERSION:2.0
CALSCALE:GREGORIAN
BEGIN:VEVENT
UID:c3daf6e6c0cc3a65c10bdb0f7a827fc7
DTSTAMP:20260422T134414Z
SUMMARY:Not Scenework but SHOWwork (1/9)
DESCRIPTION:taught by Alex Fernie\nat Anthony Meindl Studios
DTSTART;TZID=America/Los_Angeles:20250330T190000
DTEND;TZID=America/Los_Angeles:20250330T220000
LOCATION:Anthony Meindl Studios
END:VEVENT
BEGIN:VEVENT
UID:f20a049c17276263b2846866c879f240
DTSTAMP:20260422T134414Z
SUMMARY:Not Scenework but SHOWwork (2/9)
DESCRIPTION:taught by Alex Fernie\nat Anthony Meindl Studios
DTSTART;TZID=America/Los_Angeles:20250406T190000
DTEND;TZID=America/Los_Angeles:20250406T220000
LOCATION:Anthony Meindl Studios
END:VEVENT
BEGIN:VEVENT
UID:cf28453fbe665dee908f5afc0dc6c1c2
DTSTAMP:20260422T134414Z
SUMMARY:Not Scenework but SHOWwork (3/9)
DESCRIPTION:taught by Alex Fernie\nat Anthony Meindl Studios
DTSTART;TZID=America/Los_Angeles:20250413T190000
DTEND;TZID=America/Los_Angeles:20250413T220000
LOCATION:Anthony Meindl Studios
END:VEVENT
BEGIN:VEVENT
UID:d9d06dd9a0f50082cb72633024da84fa
DTSTAMP:20260422T134414Z
SUMMARY:Not Scenework but SHOWwork (4/9)
DESCRIPTION:taught by Alex Fernie\nat Anthony Meindl Studios
DTSTART;TZID=America/Los_Angeles:20250420T190000
DTEND;TZID=America/Los_Angeles:20250420T220000
LOCATION:Anthony Meindl Studios
END:VEVENT
BEGIN:VEVENT
UID:dabb67d72d93faa6dfe94609025fd31a
DTSTAMP:20260422T134414Z
SUMMARY:Not Scenework but SHOWwork (5/9)
DESCRIPTION:taught by Alex Fernie\nat Anthony Meindl Studios
DTSTART;TZID=America/Los_Angeles:20250427T190000
DTEND;TZID=America/Los_Angeles:20250427T220000
LOCATION:Anthony Meindl Studios
END:VEVENT
BEGIN:VEVENT
UID:7721cc3198ed33fedd040b2b83b23812
DTSTAMP:20260422T134414Z
SUMMARY:Not Scenework but SHOWwork (6/9)
DESCRIPTION:taught by Alex Fernie\nat Anthony Meindl Studios
DTSTART;TZID=America/Los_Angeles:20250504T190000
DTEND;TZID=America/Los_Angeles:20250504T220000
LOCATION:Anthony Meindl Studios
END:VEVENT
BEGIN:VEVENT
UID:51b4f949d19a3cae05f1bf1d476c968a
DTSTAMP:20260422T134414Z
SUMMARY:Not Scenework but SHOWwork (7/9)
DESCRIPTION:taught by Alex Fernie\nat Anthony Meindl Studios
DTSTART;TZID=America/Los_Angeles:20250511T190000
DTEND;TZID=America/Los_Angeles:20250511T220000
LOCATION:Anthony Meindl Studios
END:VEVENT
BEGIN:VEVENT
UID:05f3662a3354eda2f8215ec67fa3e699
DTSTAMP:20260422T134414Z
SUMMARY:Not Scenework but SHOWwork (8/9)
DESCRIPTION:taught by Alex Fernie\nat Anthony Meindl Studios
DTSTART;TZID=America/Los_Angeles:20250518T190000
DTEND;TZID=America/Los_Angeles:20250518T220000
LOCATION:Anthony Meindl Studios
END:VEVENT
BEGIN:VEVENT
UID:5f5ce09700183567c26e71d907a5cc25
DTSTAMP:20260422T134414Z
SUMMARY:Not Scenework but SHOWwork (9/9)
DESCRIPTION:taught by Alex Fernie\nat WGIS Space
DTSTART;TZID=America/Los_Angeles:20250522T180000
DTEND;TZID=America/Los_Angeles:20250522T190000
LOCATION:WGIS Space
END:VEVENT
BEGIN:VTIMEZONE
TZID:America/Los_Angeles
BEGIN:DAYLIGHT
DTSTART:20260401T000000
TZNAME:PDT
TZOFFSETTO:-0700
TZOFFSETFROM:-0700
END:DAYLIGHT
END:VTIMEZONE
END:VCALENDAR
