BEGIN:VCALENDAR
PRODID:-//eluceo/ical//2.0/EN
VERSION:2.0
CALSCALE:GREGORIAN
BEGIN:VEVENT
UID:dc0e31db78e48d68cc7aed1d027a79e2
DTSTAMP:20260421T081634Z
SUMMARY:FOUR WEEK CLASS Better Games: Europe (1/5)
DESCRIPTION:taught by Will Hines\nat Online
DTSTART;TZID=America/Los_Angeles:20200415T100000
DTEND;TZID=America/Los_Angeles:20200415T120000
LOCATION:Online
END:VEVENT
BEGIN:VEVENT
UID:babaf4cf97339eec4313c572a4e7fb0a
DTSTAMP:20260421T081634Z
SUMMARY:FOUR WEEK CLASS Better Games: Europe (2/5)
DESCRIPTION:taught by Will Hines\nat Online
DTSTART;TZID=America/Los_Angeles:20200422T100000
DTEND;TZID=America/Los_Angeles:20200422T120000
LOCATION:Online
END:VEVENT
BEGIN:VEVENT
UID:d9babb03f328bc1f0d786c4abc777520
DTSTAMP:20260421T081634Z
SUMMARY:FOUR WEEK CLASS Better Games: Europe (3/5)
DESCRIPTION:taught by Will Hines\nat Online
DTSTART;TZID=America/Los_Angeles:20200429T100000
DTEND;TZID=America/Los_Angeles:20200429T120000
LOCATION:Online
END:VEVENT
BEGIN:VEVENT
UID:0ab58bfa2c749f2141ae77a3dd9d84e4
DTSTAMP:20260421T081634Z
SUMMARY:FOUR WEEK CLASS Better Games: Europe (4/5)
DESCRIPTION:taught by Will Hines\nat Online
DTSTART;TZID=America/Los_Angeles:20200506T100000
DTEND;TZID=America/Los_Angeles:20200506T120000
LOCATION:Online
END:VEVENT
BEGIN:VEVENT
UID:86b747217278c1bd5f18ec288b21e92d
DTSTAMP:20260421T081634Z
SUMMARY:FOUR WEEK CLASS Better Games: Europe (5/5)
DESCRIPTION:taught by Will Hines\nat Online
DTSTART;TZID=America/Los_Angeles:20200513T100000
DTEND;TZID=America/Los_Angeles:20200513T110000
LOCATION:Online
END:VEVENT
BEGIN:VTIMEZONE
TZID:America/Los_Angeles
BEGIN:DAYLIGHT
DTSTART:20260401T000000
TZNAME:PDT
TZOFFSETTO:-0700
TZOFFSETFROM:-0700
END:DAYLIGHT
END:VTIMEZONE
END:VCALENDAR
