BEGIN:VCALENDAR
PRODID:-//eluceo/ical//2.0/EN
VERSION:2.0
CALSCALE:GREGORIAN
BEGIN:VEVENT
UID:0d56c933521be8188e6216eb86cd2795
DTSTAMP:20260423T101440Z
SUMMARY:party people rehearsal (1/7)
DESCRIPTION:taught by Jim Wood$\nat WGIS Space
DTSTART;TZID=America/Los_Angeles:20250317T183000
DTEND;TZID=America/Los_Angeles:20250317T213000
LOCATION:WGIS Space
END:VEVENT
BEGIN:VEVENT
UID:ae4f18ac8709c4ca9116bf3b4a30d5c4
DTSTAMP:20260423T101440Z
SUMMARY:party people rehearsal (2/7)
DESCRIPTION:taught by Jim Wood$\nat WGIS Space
DTSTART;TZID=America/Los_Angeles:20250713T120000
DTEND;TZID=America/Los_Angeles:20250713T150000
LOCATION:WGIS Space
END:VEVENT
BEGIN:VEVENT
UID:59cbb392b48909f40c0cbbdf6ddcd9fa
DTSTAMP:20260423T101440Z
SUMMARY:party people rehearsal (3/7)
DESCRIPTION:taught by Jim Wood$\nat Thymele Arts
DTSTART;TZID=America/Los_Angeles:20250715T183000
DTEND;TZID=America/Los_Angeles:20250715T213000
LOCATION:Thymele Arts
END:VEVENT
BEGIN:VEVENT
UID:6496bc62ac0b2b9c1a8799160832c6b8
DTSTAMP:20260423T101440Z
SUMMARY:party people rehearsal (4/7)
DESCRIPTION:taught by Jim Wood$\nat WGIS Space
DTSTART;TZID=America/Los_Angeles:20250817T150000
DTEND;TZID=America/Los_Angeles:20250817T180000
LOCATION:WGIS Space
END:VEVENT
BEGIN:VEVENT
UID:520d9b76dc45aa453886b0b1afe82365
DTSTAMP:20260423T101440Z
SUMMARY:party people rehearsal (5/7)
DESCRIPTION:taught by Jim Wood$\nat WGIS Space
DTSTART;TZID=America/Los_Angeles:20250823T150000
DTEND;TZID=America/Los_Angeles:20250823T180000
LOCATION:WGIS Space
END:VEVENT
BEGIN:VEVENT
UID:e4e7c0333151316e843f3cae9fc86d3f
DTSTAMP:20260423T101440Z
SUMMARY:party people rehearsal (6/7)
DESCRIPTION:taught by Jim Wood$\nat WGIS Space
DTSTART;TZID=America/Los_Angeles:20250831T150000
DTEND;TZID=America/Los_Angeles:20250831T180000
LOCATION:WGIS Space
END:VEVENT
BEGIN:VEVENT
UID:f53f3b8a5c7c0910fac41086ad10577a
DTSTAMP:20260423T101440Z
SUMMARY:party people rehearsal (7/7)
DESCRIPTION:taught by Jim Wood$\nat WGIS Space
DTSTART;TZID=America/Los_Angeles:20251004T150000
DTEND;TZID=America/Los_Angeles:20251004T174500
LOCATION:WGIS Space
END:VEVENT
BEGIN:VTIMEZONE
TZID:America/Los_Angeles
BEGIN:DAYLIGHT
DTSTART:20260401T000000
TZNAME:PDT
TZOFFSETTO:-0700
TZOFFSETFROM:-0700
END:DAYLIGHT
END:VTIMEZONE
END:VCALENDAR
