BEGIN:VCALENDAR
PRODID:-//eluceo/ical//2.0/EN
VERSION:2.0
CALSCALE:GREGORIAN
BEGIN:VEVENT
UID:e0e369c81ad9804a05bc46e6478de620
DTSTAMP:20260422T135038Z
SUMMARY:Duality Of Scene (1/4)
DESCRIPTION:taught by Sebastian Conelli\nat Cre8tive NYC
DTSTART;TZID=America/New_York:20250427T150000
DTEND;TZID=America/New_York:20250427T173000
LOCATION:Cre8tive NYC
END:VEVENT
BEGIN:VEVENT
UID:440416551c4f46b8e5302ee646648dc4
DTSTAMP:20260422T135038Z
SUMMARY:Duality Of Scene (2/4)
DESCRIPTION:taught by Sebastian Conelli\nat Cre8tive NYC
DTSTART;TZID=America/New_York:20250504T150000
DTEND;TZID=America/New_York:20250504T173000
LOCATION:Cre8tive NYC
END:VEVENT
BEGIN:VEVENT
UID:f9988189101b01485822f385d3760ccc
DTSTAMP:20260422T135038Z
SUMMARY:Duality Of Scene (3/4)
DESCRIPTION:taught by Sebastian Conelli\nat Cre8tive NYC
DTSTART;TZID=America/New_York:20250511T150000
DTEND;TZID=America/New_York:20250511T173000
LOCATION:Cre8tive NYC
END:VEVENT
BEGIN:VEVENT
UID:23d98eb5fc58b7e3ed0d39d2675beab9
DTSTAMP:20260422T135038Z
SUMMARY:Duality Of Scene (4/4)
DESCRIPTION:taught by Sebastian Conelli\nat Cre8tive NYC
DTSTART;TZID=America/New_York:20250518T150000
DTEND;TZID=America/New_York:20250518T173000
LOCATION:Cre8tive NYC
END:VEVENT
BEGIN:VTIMEZONE
TZID:America/New_York
BEGIN:DAYLIGHT
DTSTART:20260401T000000
TZNAME:EDT
TZOFFSETTO:-0400
TZOFFSETFROM:-0400
END:DAYLIGHT
END:VTIMEZONE
END:VCALENDAR
