BEGIN:VCALENDAR
PRODID:-//eluceo/ical//2.0/EN
VERSION:2.0
CALSCALE:GREGORIAN
BEGIN:VEVENT
UID:64f2611046f9b41167407d726642a4ed
DTSTAMP:20260422T134108Z
SUMMARY:Level 1: Intro To Improv (1/9)
DESCRIPTION:taught by Laney Serface\nat WGIS Space
DTSTART;TZID=America/Los_Angeles:20250406T150000
DTEND;TZID=America/Los_Angeles:20250406T180000
LOCATION:WGIS Space
END:VEVENT
BEGIN:VEVENT
UID:a7e4fb5317ae5ed2e987460bffa65455
DTSTAMP:20260422T134108Z
SUMMARY:Level 1: Intro To Improv (2/9)
DESCRIPTION:taught by Laney Serface\nat WGIS Space
DTSTART;TZID=America/Los_Angeles:20250413T150000
DTEND;TZID=America/Los_Angeles:20250413T180000
LOCATION:WGIS Space
END:VEVENT
BEGIN:VEVENT
UID:07e19ead8696caaa72f3dd46eb5678e7
DTSTAMP:20260422T134108Z
SUMMARY:Level 1: Intro To Improv (3/9)
DESCRIPTION:taught by Laney Serface\nat WGIS Space
DTSTART;TZID=America/Los_Angeles:20250420T150000
DTEND;TZID=America/Los_Angeles:20250420T180000
LOCATION:WGIS Space
END:VEVENT
BEGIN:VEVENT
UID:9f516b71d64aa08eb14659910d5ba2b3
DTSTAMP:20260422T134108Z
SUMMARY:Level 1: Intro To Improv (4/9)
DESCRIPTION:taught by Laney Serface\nat WGIS Space
DTSTART;TZID=America/Los_Angeles:20250427T150000
DTEND;TZID=America/Los_Angeles:20250427T180000
LOCATION:WGIS Space
END:VEVENT
BEGIN:VEVENT
UID:0009c5ba96d97e9b3b407adf5837364d
DTSTAMP:20260422T134108Z
SUMMARY:Level 1: Intro To Improv (5/9)
DESCRIPTION:taught by Laney Serface\nat WGIS Space
DTSTART;TZID=America/Los_Angeles:20250504T150000
DTEND;TZID=America/Los_Angeles:20250504T180000
LOCATION:WGIS Space
END:VEVENT
BEGIN:VEVENT
UID:eb9ded48cdf9ce7cefa2aef7f20227a3
DTSTAMP:20260422T134108Z
SUMMARY:Level 1: Intro To Improv (6/9)
DESCRIPTION:taught by Laney Serface\nat WGIS Space
DTSTART;TZID=America/Los_Angeles:20250511T150000
DTEND;TZID=America/Los_Angeles:20250511T180000
LOCATION:WGIS Space
END:VEVENT
BEGIN:VEVENT
UID:98a2459496611e6fa98b39ef6334b694
DTSTAMP:20260422T134108Z
SUMMARY:Level 1: Intro To Improv (7/9)
DESCRIPTION:taught by Laney Serface\nat WGIS Space
DTSTART;TZID=America/Los_Angeles:20250518T150000
DTEND;TZID=America/Los_Angeles:20250518T180000
LOCATION:WGIS Space
END:VEVENT
BEGIN:VEVENT
UID:1996c2dc962975a93585f5109335f8a0
DTSTAMP:20260422T134108Z
SUMMARY:Level 1: Intro To Improv (8/9)
DESCRIPTION:taught by Laney Serface\nat WGIS Space
DTSTART;TZID=America/Los_Angeles:20250525T150000
DTEND;TZID=America/Los_Angeles:20250525T180000
LOCATION:WGIS Space
END:VEVENT
BEGIN:VEVENT
UID:47712ee9828994ef566cefbfcd021338
DTSTAMP:20260422T134108Z
SUMMARY:Level 1: Intro To Improv (9/9)
DESCRIPTION:taught by Laney Serface\nat WGIS Space
DTSTART;TZID=America/Los_Angeles:20250529T180000
DTEND;TZID=America/Los_Angeles:20250529T190000
LOCATION:WGIS Space
END:VEVENT
BEGIN:VTIMEZONE
TZID:America/Los_Angeles
BEGIN:DAYLIGHT
DTSTART:20260401T000000
TZNAME:PDT
TZOFFSETTO:-0700
TZOFFSETFROM:-0700
END:DAYLIGHT
END:VTIMEZONE
END:VCALENDAR
