BEGIN:VCALENDAR
PRODID:-//eluceo/ical//2.0/EN
VERSION:2.0
CALSCALE:GREGORIAN
BEGIN:VEVENT
UID:61002ddab9dd29e4b070befbf4a92589
DTSTAMP:20260422T115032Z
SUMMARY:Level 2: Game of the Scene (1/9)
DESCRIPTION:taught by Monika Smith\nat WGIS Space
DTSTART;TZID=America/Los_Angeles:20250419T150000
DTEND;TZID=America/Los_Angeles:20250419T180000
LOCATION:WGIS Space
END:VEVENT
BEGIN:VEVENT
UID:a325aa27ee2cf05a97aba80f630494e6
DTSTAMP:20260422T115032Z
SUMMARY:Level 2: Game of the Scene (2/9)
DESCRIPTION:taught by Monika Smith\nat Anthony Meindl Studios
DTSTART;TZID=America/Los_Angeles:20250426T150000
DTEND;TZID=America/Los_Angeles:20250426T180000
LOCATION:Anthony Meindl Studios
END:VEVENT
BEGIN:VEVENT
UID:1ef4a412d3145fc8caeb22ba8ca52cd1
DTSTAMP:20260422T115032Z
SUMMARY:Level 2: Game of the Scene (3/9)
DESCRIPTION:taught by Monika Smith\nat WGIS Space
DTSTART;TZID=America/Los_Angeles:20250503T150000
DTEND;TZID=America/Los_Angeles:20250503T180000
LOCATION:WGIS Space
END:VEVENT
BEGIN:VEVENT
UID:842572c21b830da5a20efeda98206047
DTSTAMP:20260422T115032Z
SUMMARY:Level 2: Game of the Scene (4/9)
DESCRIPTION:taught by Monika Smith\nat WGIS Space
DTSTART;TZID=America/Los_Angeles:20250510T150000
DTEND;TZID=America/Los_Angeles:20250510T180000
LOCATION:WGIS Space
END:VEVENT
BEGIN:VEVENT
UID:95b9f6f6ded156075da453ef54acf559
DTSTAMP:20260422T115032Z
SUMMARY:Level 2: Game of the Scene (5/9)
DESCRIPTION:taught by Monika Smith\nat WGIS Space
DTSTART;TZID=America/Los_Angeles:20250517T150000
DTEND;TZID=America/Los_Angeles:20250517T180000
LOCATION:WGIS Space
END:VEVENT
BEGIN:VEVENT
UID:1f03fba78e1c64b0ad3ed1f023f3fd2d
DTSTAMP:20260422T115032Z
SUMMARY:Level 2: Game of the Scene (6/9)
DESCRIPTION:taught by Monika Smith\nat WGIS Space
DTSTART;TZID=America/Los_Angeles:20250524T150000
DTEND;TZID=America/Los_Angeles:20250524T180000
LOCATION:WGIS Space
END:VEVENT
BEGIN:VEVENT
UID:ccfd48cdcbdc63ea781186aee800ea90
DTSTAMP:20260422T115032Z
SUMMARY:Level 2: Game of the Scene (7/9)
DESCRIPTION:taught by Monika Smith\nat Clubhouse Downstairs
DTSTART;TZID=America/Los_Angeles:20250531T150000
DTEND;TZID=America/Los_Angeles:20250531T180000
LOCATION:Clubhouse Downstairs
END:VEVENT
BEGIN:VEVENT
UID:0e7a77d2242a9373648b34fe2da4ff1c
DTSTAMP:20260422T115032Z
SUMMARY:Level 2: Game of the Scene (8/9)
DESCRIPTION:taught by Monika Smith\nat WGIS Space
DTSTART;TZID=America/Los_Angeles:20250607T150000
DTEND;TZID=America/Los_Angeles:20250607T180000
LOCATION:WGIS Space
END:VEVENT
BEGIN:VEVENT
UID:5c6a9be442edaf16c05e02c4c9fe354c
DTSTAMP:20260422T115032Z
SUMMARY:Level 2: Game of the Scene (9/9)
DESCRIPTION:taught by Monika Smith\nat WGIS Space
DTSTART;TZID=America/Los_Angeles:20250612T180000
DTEND;TZID=America/Los_Angeles:20250612T190000
LOCATION:WGIS Space
END:VEVENT
BEGIN:VTIMEZONE
TZID:America/Los_Angeles
BEGIN:DAYLIGHT
DTSTART:20260401T000000
TZNAME:PDT
TZOFFSETTO:-0700
TZOFFSETFROM:-0700
END:DAYLIGHT
END:VTIMEZONE
END:VCALENDAR
