BEGIN:VCALENDAR
PRODID:-//eluceo/ical//2.0/EN
VERSION:2.0
CALSCALE:GREGORIAN
BEGIN:VEVENT
UID:d9a97ceb5151591ffda035bc76722893
DTSTAMP:20260422T134241Z
SUMMARY:Radical Agreement (1/2)
DESCRIPTION:taught by Achilles Stamatelakey\nat Cre8tive NYC
DTSTART;TZID=America/New_York:20250423T183000
DTEND;TZID=America/New_York:20250423T210000
LOCATION:Cre8tive NYC
END:VEVENT
BEGIN:VEVENT
UID:434e4c32cb547cdc20e01536be7be537
DTSTAMP:20260422T134241Z
SUMMARY:Radical Agreement (2/2)
DESCRIPTION:taught by Achilles Stamatelakey\nat Cre8tive NYC
DTSTART;TZID=America/New_York:20250430T183000
DTEND;TZID=America/New_York:20250430T210000
LOCATION:Cre8tive NYC
END:VEVENT
BEGIN:VTIMEZONE
TZID:America/New_York
BEGIN:DAYLIGHT
DTSTART:20260401T000000
TZNAME:EDT
TZOFFSETTO:-0400
TZOFFSETFROM:-0400
END:DAYLIGHT
END:VTIMEZONE
END:VCALENDAR
