BEGIN:VCALENDAR
PRODID:-//eluceo/ical//2.0/EN
VERSION:2.0
CALSCALE:GREGORIAN
BEGIN:VEVENT
UID:febf46ccb4a87d4f83d18b991aa35a24
DTSTAMP:20260422T134236Z
SUMMARY:Game: Music and Lyrics (1/2)
DESCRIPTION:taught by Will Hines\nat Anthony Meindl Studios
DTSTART;TZID=America/Los_Angeles:20250505T190000
DTEND;TZID=America/Los_Angeles:20250505T213000
LOCATION:Anthony Meindl Studios
END:VEVENT
BEGIN:VEVENT
UID:26dbbe39c820eb7a05621e6b9e72aa98
DTSTAMP:20260422T134236Z
SUMMARY:Game: Music and Lyrics (2/2)
DESCRIPTION:taught by Will Hines\nat Anthony Meindl Studios
DTSTART;TZID=America/Los_Angeles:20250512T190000
DTEND;TZID=America/Los_Angeles:20250512T213000
LOCATION:Anthony Meindl Studios
END:VEVENT
BEGIN:VTIMEZONE
TZID:America/Los_Angeles
BEGIN:DAYLIGHT
DTSTART:20260401T000000
TZNAME:PDT
TZOFFSETTO:-0700
TZOFFSETFROM:-0700
END:DAYLIGHT
END:VTIMEZONE
END:VCALENDAR
