BEGIN:VCALENDAR
PRODID:-//eluceo/ical//2.0/EN
VERSION:2.0
CALSCALE:GREGORIAN
BEGIN:VEVENT
UID:219180fa4715d3d414ad8da95c7cf759
DTSTAMP:20260422T134331Z
SUMMARY:After-Noon Bitness - May 2025 (1/10)
DESCRIPTION:taught by Will Hines and Sarah Claspell\nat WGIS Space
DTSTART;TZID=America/Los_Angeles:20250505T141500
DTEND;TZID=America/Los_Angeles:20250505T161500
LOCATION:WGIS Space
END:VEVENT
BEGIN:VEVENT
UID:f95b75aa24ecf24b69378c432919e64f
DTSTAMP:20260422T134331Z
SUMMARY:After-Noon Bitness - May 2025 (2/10)
DESCRIPTION:taught by Will Hines and Sarah Claspell\nat WGIS Space
DTSTART;TZID=America/Los_Angeles:20250506T141500
DTEND;TZID=America/Los_Angeles:20250506T161500
LOCATION:WGIS Space
END:VEVENT
BEGIN:VEVENT
UID:1c54b175652242359c2cb137d8a87ad2
DTSTAMP:20260422T134331Z
SUMMARY:After-Noon Bitness - May 2025 (3/10)
DESCRIPTION:taught by Will Hines and Sarah Claspell\nat WGIS Space
DTSTART;TZID=America/Los_Angeles:20250508T141500
DTEND;TZID=America/Los_Angeles:20250508T161500
LOCATION:WGIS Space
END:VEVENT
BEGIN:VEVENT
UID:8e578ffc2a40ee581a1c5ea863dfc117
DTSTAMP:20260422T134331Z
SUMMARY:After-Noon Bitness - May 2025 (4/10)
DESCRIPTION:taught by Will Hines and Sarah Claspell\nat WGIS Space
DTSTART;TZID=America/Los_Angeles:20250512T141500
DTEND;TZID=America/Los_Angeles:20250512T161500
LOCATION:WGIS Space
END:VEVENT
BEGIN:VEVENT
UID:363d33f47027e02949f3f022025757af
DTSTAMP:20260422T134331Z
SUMMARY:After-Noon Bitness - May 2025 (5/10)
DESCRIPTION:taught by Will Hines and Sarah Claspell\nat WGIS Space
DTSTART;TZID=America/Los_Angeles:20250513T141500
DTEND;TZID=America/Los_Angeles:20250513T161500
LOCATION:WGIS Space
END:VEVENT
BEGIN:VEVENT
UID:a271b3745d875f8685a298b64d99f693
DTSTAMP:20260422T134331Z
SUMMARY:After-Noon Bitness - May 2025 (6/10)
DESCRIPTION:taught by Will Hines and Sarah Claspell\nat WGIS Space
DTSTART;TZID=America/Los_Angeles:20250515T141500
DTEND;TZID=America/Los_Angeles:20250515T161500
LOCATION:WGIS Space
END:VEVENT
BEGIN:VEVENT
UID:aeb1b1e3f99dd29eccfd2957394b5d08
DTSTAMP:20260422T134331Z
SUMMARY:After-Noon Bitness - May 2025 (7/10)
DESCRIPTION:taught by Will Hines and Sarah Claspell\nat WGIS Space
DTSTART;TZID=America/Los_Angeles:20250519T141500
DTEND;TZID=America/Los_Angeles:20250519T161500
LOCATION:WGIS Space
END:VEVENT
BEGIN:VEVENT
UID:b97b33ca6f576fc9872e7f1b04904242
DTSTAMP:20260422T134331Z
SUMMARY:After-Noon Bitness - May 2025 (8/10)
DESCRIPTION:taught by Will Hines and Sarah Claspell\nat WGIS Space
DTSTART;TZID=America/Los_Angeles:20250520T141500
DTEND;TZID=America/Los_Angeles:20250520T161500
LOCATION:WGIS Space
END:VEVENT
BEGIN:VEVENT
UID:0c25939651d961dc86e9c6a3074c0505
DTSTAMP:20260422T134331Z
SUMMARY:After-Noon Bitness - May 2025 (9/10)
DESCRIPTION:taught by Will Hines and Sarah Claspell\nat WGIS Space
DTSTART;TZID=America/Los_Angeles:20250522T141500
DTEND;TZID=America/Los_Angeles:20250522T161500
LOCATION:WGIS Space
END:VEVENT
BEGIN:VEVENT
UID:1870e49c00534e8cd930e84f90a2cae0
DTSTAMP:20260422T134331Z
SUMMARY:After-Noon Bitness - May 2025 (10/10)
DESCRIPTION:taught by Will Hines and Sarah Claspell\nat WGIS Space
DTSTART;TZID=America/Los_Angeles:20250523T180000
DTEND;TZID=America/Los_Angeles:20250523T190000
LOCATION:WGIS Space
END:VEVENT
BEGIN:VTIMEZONE
TZID:America/Los_Angeles
BEGIN:DAYLIGHT
DTSTART:20260401T000000
TZNAME:PDT
TZOFFSETTO:-0700
TZOFFSETFROM:-0700
END:DAYLIGHT
END:VTIMEZONE
END:VCALENDAR
