BEGIN:VCALENDAR
PRODID:-//eluceo/ical//2.0/EN
VERSION:2.0
CALSCALE:GREGORIAN
BEGIN:VEVENT
UID:f60fea2715881e0b4b7b12963549c496
DTSTAMP:20260422T134002Z
SUMMARY:Game Drill - 3 week (1/3)
DESCRIPTION:taught by Sarah Claspell\nat WGIS Space
DTSTART;TZID=America/Los_Angeles:20250510T120000
DTEND;TZID=America/Los_Angeles:20250510T150000
LOCATION:WGIS Space
END:VEVENT
BEGIN:VEVENT
UID:d6fdf489c6910c8ed524b054db43f63f
DTSTAMP:20260422T134002Z
SUMMARY:Game Drill - 3 week (2/3)
DESCRIPTION:taught by Sarah Claspell\nat WGIS Space
DTSTART;TZID=America/Los_Angeles:20250517T120000
DTEND;TZID=America/Los_Angeles:20250517T150000
LOCATION:WGIS Space
END:VEVENT
BEGIN:VEVENT
UID:abeb612c7cebb155478cfe3d582ae7aa
DTSTAMP:20260422T134002Z
SUMMARY:Game Drill - 3 week (3/3)
DESCRIPTION:taught by Sarah Claspell\nat WGIS Space
DTSTART;TZID=America/Los_Angeles:20250524T120000
DTEND;TZID=America/Los_Angeles:20250524T150000
LOCATION:WGIS Space
END:VEVENT
BEGIN:VTIMEZONE
TZID:America/Los_Angeles
BEGIN:DAYLIGHT
DTSTART:20260401T000000
TZNAME:PDT
TZOFFSETTO:-0700
TZOFFSETFROM:-0700
END:DAYLIGHT
END:VTIMEZONE
END:VCALENDAR
