BEGIN:VCALENDAR
PRODID:-//eluceo/ical//2.0/EN
VERSION:2.0
CALSCALE:GREGORIAN
BEGIN:VEVENT
UID:e6292b0e8513f8a34c3784aaff4f463a
DTSTAMP:20260422T120103Z
SUMMARY:Game Action - May 2025 (1/4)
DESCRIPTION:taught by Todd Fasen\nat Online
DTSTART;TZID=America/Los_Angeles:20250507T110000
DTEND;TZID=America/Los_Angeles:20250507T130000
LOCATION:Online
END:VEVENT
BEGIN:VEVENT
UID:96cda16b85d06fc3bfb3ec6da1b5a46a
DTSTAMP:20260422T120103Z
SUMMARY:Game Action - May 2025 (2/4)
DESCRIPTION:taught by Todd Fasen\nat Online
DTSTART;TZID=America/Los_Angeles:20250514T110000
DTEND;TZID=America/Los_Angeles:20250514T130000
LOCATION:Online
END:VEVENT
BEGIN:VEVENT
UID:e53f4599b3fa3d652899d8beced4b486
DTSTAMP:20260422T120103Z
SUMMARY:Game Action - May 2025 (3/4)
DESCRIPTION:taught by Todd Fasen\nat Online
DTSTART;TZID=America/Los_Angeles:20250521T110000
DTEND;TZID=America/Los_Angeles:20250521T130000
LOCATION:Online
END:VEVENT
BEGIN:VEVENT
UID:83b7fa196109abfbb210e73ff2f07294
DTSTAMP:20260422T120103Z
SUMMARY:Game Action - May 2025 (4/4)
DESCRIPTION:taught by Todd Fasen\nat Online
DTSTART;TZID=America/Los_Angeles:20250528T110000
DTEND;TZID=America/Los_Angeles:20250528T130000
LOCATION:Online
END:VEVENT
BEGIN:VTIMEZONE
TZID:America/Los_Angeles
BEGIN:DAYLIGHT
DTSTART:20260401T000000
TZNAME:PDT
TZOFFSETTO:-0700
TZOFFSETFROM:-0700
END:DAYLIGHT
END:VTIMEZONE
END:VCALENDAR
