BEGIN:VCALENDAR
PRODID:-//eluceo/ical//2.0/EN
VERSION:2.0
CALSCALE:GREGORIAN
BEGIN:VEVENT
UID:02ab89d4299827ef363fb46e9e05feb4
DTSTAMP:20260421T182000Z
SUMMARY:Radical Agreement - 2 weeks (1/2)
DESCRIPTION:taught by Achilles Stamatelakey\nat Cre8tive NYC
DTSTART;TZID=America/New_York:20250604T183000
DTEND;TZID=America/New_York:20250604T210000
LOCATION:Cre8tive NYC
END:VEVENT
BEGIN:VEVENT
UID:d0d1041c0286176f8436285a7a9be35f
DTSTAMP:20260421T182000Z
SUMMARY:Radical Agreement - 2 weeks (2/2)
DESCRIPTION:taught by Achilles Stamatelakey\nat Cre8tive NYC
DTSTART;TZID=America/New_York:20250611T183000
DTEND;TZID=America/New_York:20250611T210000
LOCATION:Cre8tive NYC
END:VEVENT
BEGIN:VTIMEZONE
TZID:America/New_York
BEGIN:DAYLIGHT
DTSTART:20260401T000000
TZNAME:EDT
TZOFFSETTO:-0400
TZOFFSETFROM:-0400
END:DAYLIGHT
END:VTIMEZONE
END:VCALENDAR
