BEGIN:VCALENDAR
PRODID:-//eluceo/ical//2.0/EN
VERSION:2.0
CALSCALE:GREGORIAN
BEGIN:VEVENT
UID:d0a2d8cebe2c77f98f493fdf04f4cdba
DTSTAMP:20260423T102033Z
SUMMARY:Empathy Driven Improv (1/6)
DESCRIPTION:taught by Jim Wood$\nat WGIS Space
DTSTART;TZID=America/Los_Angeles:20250921T120000
DTEND;TZID=America/Los_Angeles:20250921T150000
LOCATION:WGIS Space
END:VEVENT
BEGIN:VEVENT
UID:ace7fca9caa027c8354095356e61d547
DTSTAMP:20260423T102033Z
SUMMARY:Empathy Driven Improv (2/6)
DESCRIPTION:taught by Jim Wood$\nat WGIS Space
DTSTART;TZID=America/Los_Angeles:20250928T120000
DTEND;TZID=America/Los_Angeles:20250928T150000
LOCATION:WGIS Space
END:VEVENT
BEGIN:VEVENT
UID:958635aa8bfa957935051f5876b78209
DTSTAMP:20260423T102033Z
SUMMARY:Empathy Driven Improv (3/6)
DESCRIPTION:taught by Jim Wood$\nat WGIS Space
DTSTART;TZID=America/Los_Angeles:20251005T120000
DTEND;TZID=America/Los_Angeles:20251005T150000
LOCATION:WGIS Space
END:VEVENT
BEGIN:VEVENT
UID:ed3c755c7581221fa7f8951ba46d195b
DTSTAMP:20260423T102033Z
SUMMARY:Empathy Driven Improv (4/6)
DESCRIPTION:taught by Jim Wood$\nat WGIS Space
DTSTART;TZID=America/Los_Angeles:20251012T120000
DTEND;TZID=America/Los_Angeles:20251012T150000
LOCATION:WGIS Space
END:VEVENT
BEGIN:VEVENT
UID:a06004943bd9fff222450f2042030550
DTSTAMP:20260423T102033Z
SUMMARY:Empathy Driven Improv (5/6)
DESCRIPTION:taught by Jim Wood$\nat WGIS Space
DTSTART;TZID=America/Los_Angeles:20251026T120000
DTEND;TZID=America/Los_Angeles:20251026T150000
LOCATION:WGIS Space
END:VEVENT
BEGIN:VEVENT
UID:cb1716f900205890b6c8a20efa5ecac3
DTSTAMP:20260423T102033Z
SUMMARY:Empathy Driven Improv (6/6)
DESCRIPTION:taught by Jim Wood$\nat WGIS Space
DTSTART;TZID=America/Los_Angeles:20251102T120000
DTEND;TZID=America/Los_Angeles:20251102T150000
LOCATION:WGIS Space
END:VEVENT
BEGIN:VTIMEZONE
TZID:America/Los_Angeles
BEGIN:DAYLIGHT
DTSTART:20260401T000000
TZNAME:PDT
TZOFFSETTO:-0700
TZOFFSETFROM:-0700
END:DAYLIGHT
END:VTIMEZONE
END:VCALENDAR
