BEGIN:VCALENDAR
PRODID:-//eluceo/ical//2.0/EN
VERSION:2.0
CALSCALE:GREGORIAN
BEGIN:VEVENT
UID:1bc7ff751d727f75452f1782b811e2ce
DTSTAMP:20260423T101440Z
SUMMARY:Craig Cackowski's Improv Class (1/4)
DESCRIPTION:taught by Craig Cackowski\nat Thymele Arts
DTSTART;TZID=America/Los_Angeles:20250908T190000
DTEND;TZID=America/Los_Angeles:20250908T220000
LOCATION:Thymele Arts
END:VEVENT
BEGIN:VEVENT
UID:9c967a801c944abaa9d1f64f6a459281
DTSTAMP:20260423T101440Z
SUMMARY:Craig Cackowski's Improv Class (2/4)
DESCRIPTION:taught by Craig Cackowski\nat Thymele Arts
DTSTART;TZID=America/Los_Angeles:20250915T190000
DTEND;TZID=America/Los_Angeles:20250915T220000
LOCATION:Thymele Arts
END:VEVENT
BEGIN:VEVENT
UID:0431973426d4b498f464fa385b6ec662
DTSTAMP:20260423T101440Z
SUMMARY:Craig Cackowski's Improv Class (3/4)
DESCRIPTION:taught by Craig Cackowski\nat WGIS Space
DTSTART;TZID=America/Los_Angeles:20250922T190000
DTEND;TZID=America/Los_Angeles:20250922T220000
LOCATION:WGIS Space
END:VEVENT
BEGIN:VEVENT
UID:10dff7449768dc4ef3073e7e11b875d7
DTSTAMP:20260423T101440Z
SUMMARY:Craig Cackowski's Improv Class (4/4)
DESCRIPTION:taught by Craig Cackowski\nat WGIS Space
DTSTART;TZID=America/Los_Angeles:20250929T190000
DTEND;TZID=America/Los_Angeles:20250929T220000
LOCATION:WGIS Space
END:VEVENT
BEGIN:VTIMEZONE
TZID:America/Los_Angeles
BEGIN:DAYLIGHT
DTSTART:20260401T000000
TZNAME:PDT
TZOFFSETTO:-0700
TZOFFSETFROM:-0700
END:DAYLIGHT
END:VTIMEZONE
END:VCALENDAR
