BEGIN:VCALENDAR
PRODID:-//eluceo/ical//2.0/EN
VERSION:2.0
CALSCALE:GREGORIAN
BEGIN:VEVENT
UID:cb9c9341d994f71a908fb3374c17a32a
DTSTAMP:20260423T101811Z
SUMMARY:Bob Dassie's Improv Mindset (1/4)
DESCRIPTION:taught by Bob Dassie\nat WGIS Space
DTSTART;TZID=America/Los_Angeles:20250909T190000
DTEND;TZID=America/Los_Angeles:20250909T220000
LOCATION:WGIS Space
END:VEVENT
BEGIN:VEVENT
UID:1efb02625d56620a2cda414999599c80
DTSTAMP:20260423T101811Z
SUMMARY:Bob Dassie's Improv Mindset (2/4)
DESCRIPTION:taught by Bob Dassie\nat WGIS Space
DTSTART;TZID=America/Los_Angeles:20250916T190000
DTEND;TZID=America/Los_Angeles:20250916T220000
LOCATION:WGIS Space
END:VEVENT
BEGIN:VEVENT
UID:ff860604fcffb33b95343bc3cfd6b640
DTSTAMP:20260423T101811Z
SUMMARY:Bob Dassie's Improv Mindset (3/4)
DESCRIPTION:taught by Bob Dassie\nat WGIS Space
DTSTART;TZID=America/Los_Angeles:20250923T190000
DTEND;TZID=America/Los_Angeles:20250923T220000
LOCATION:WGIS Space
END:VEVENT
BEGIN:VEVENT
UID:67ceae4502908fca9df7f481ad5ef30c
DTSTAMP:20260423T101811Z
SUMMARY:Bob Dassie's Improv Mindset (4/4)
DESCRIPTION:taught by Bob Dassie\nat WGIS Space
DTSTART;TZID=America/Los_Angeles:20250930T190000
DTEND;TZID=America/Los_Angeles:20250930T220000
LOCATION:WGIS Space
END:VEVENT
BEGIN:VTIMEZONE
TZID:America/Los_Angeles
BEGIN:DAYLIGHT
DTSTART:20260401T000000
TZNAME:PDT
TZOFFSETTO:-0700
TZOFFSETFROM:-0700
END:DAYLIGHT
END:VTIMEZONE
END:VCALENDAR
