BEGIN:VCALENDAR
PRODID:-//eluceo/ical//2.0/EN
VERSION:2.0
CALSCALE:GREGORIAN
BEGIN:VEVENT
UID:82042e4d113169955194d574cacf208c
DTSTAMP:20260423T104112Z
SUMMARY:Forms You Can Use (1/5)
DESCRIPTION:taught by Laney Serface\nat WGIS Space
DTSTART;TZID=America/Los_Angeles:20250907T150000
DTEND;TZID=America/Los_Angeles:20250907T173000
LOCATION:WGIS Space
END:VEVENT
BEGIN:VEVENT
UID:174bc33a2957b666817d3fd672bd4792
DTSTAMP:20260423T104112Z
SUMMARY:Forms You Can Use (2/5)
DESCRIPTION:taught by Laney Serface\nat WGIS Space
DTSTART;TZID=America/Los_Angeles:20250914T150000
DTEND;TZID=America/Los_Angeles:20250914T173000
LOCATION:WGIS Space
END:VEVENT
BEGIN:VEVENT
UID:252c2cd7518d0f52e3023c60592104be
DTSTAMP:20260423T104112Z
SUMMARY:Forms You Can Use (3/5)
DESCRIPTION:taught by Laney Serface\nat WGIS Space
DTSTART;TZID=America/Los_Angeles:20250921T150000
DTEND;TZID=America/Los_Angeles:20250921T173000
LOCATION:WGIS Space
END:VEVENT
BEGIN:VEVENT
UID:10b271f46d4b2bdddb2d30d70ba43cff
DTSTAMP:20260423T104112Z
SUMMARY:Forms You Can Use (4/5)
DESCRIPTION:taught by Laney Serface\nat WGIS Space
DTSTART;TZID=America/Los_Angeles:20250928T150000
DTEND;TZID=America/Los_Angeles:20250928T173000
LOCATION:WGIS Space
END:VEVENT
BEGIN:VEVENT
UID:1322081ece3200ba5c164d2d635b8b7c
DTSTAMP:20260423T104112Z
SUMMARY:Forms You Can Use (5/5)
DESCRIPTION:taught by Laney Serface\nat WGIS Space
DTSTART;TZID=America/Los_Angeles:20251003T180000
DTEND;TZID=America/Los_Angeles:20251003T190000
LOCATION:WGIS Space
END:VEVENT
BEGIN:VTIMEZONE
TZID:America/Los_Angeles
BEGIN:DAYLIGHT
DTSTART:20260401T000000
TZNAME:PDT
TZOFFSETTO:-0700
TZOFFSETFROM:-0700
END:DAYLIGHT
END:VTIMEZONE
END:VCALENDAR
