BEGIN:VCALENDAR
PRODID:-//eluceo/ical//2.0/EN
VERSION:2.0
CALSCALE:GREGORIAN
BEGIN:VEVENT
UID:a736277b845cde7d100edacd5170432d
DTSTAMP:20260423T101718Z
SUMMARY:Game Drill (1/4)
DESCRIPTION:taught by Sarah Claspell\nat WGIS Space
DTSTART;TZID=America/Los_Angeles:20251004T120000
DTEND;TZID=America/Los_Angeles:20251004T143000
LOCATION:WGIS Space
END:VEVENT
BEGIN:VEVENT
UID:a3c84f1fd3ff929a8bcac9507db865f6
DTSTAMP:20260423T101718Z
SUMMARY:Game Drill (2/4)
DESCRIPTION:taught by Sarah Claspell\nat WGIS Space
DTSTART;TZID=America/Los_Angeles:20251011T120000
DTEND;TZID=America/Los_Angeles:20251011T143000
LOCATION:WGIS Space
END:VEVENT
BEGIN:VEVENT
UID:0c2a30902f3a8ac70d161433269b3a93
DTSTAMP:20260423T101718Z
SUMMARY:Game Drill (3/4)
DESCRIPTION:taught by Sarah Claspell\nat WGIS Space
DTSTART;TZID=America/Los_Angeles:20251018T120000
DTEND;TZID=America/Los_Angeles:20251018T143000
LOCATION:WGIS Space
END:VEVENT
BEGIN:VEVENT
UID:fcb1765d77ea52391b42c895334022dd
DTSTAMP:20260423T101718Z
SUMMARY:Game Drill (4/4)
DESCRIPTION:taught by Sarah Claspell\nat WGIS Space
DTSTART;TZID=America/Los_Angeles:20251025T120000
DTEND;TZID=America/Los_Angeles:20251025T143000
LOCATION:WGIS Space
END:VEVENT
BEGIN:VTIMEZONE
TZID:America/Los_Angeles
BEGIN:DAYLIGHT
DTSTART:20260401T000000
TZNAME:PDT
TZOFFSETTO:-0700
TZOFFSETFROM:-0700
END:DAYLIGHT
END:VTIMEZONE
END:VCALENDAR
