BEGIN:VCALENDAR
PRODID:-//eluceo/ical//2.0/EN
VERSION:2.0
CALSCALE:GREGORIAN
BEGIN:VEVENT
UID:e5e83ab1640e009901c758beb99b9d39
DTSTAMP:20260423T095741Z
SUMMARY:Game Talk - 4 Weeks (1/4)
DESCRIPTION:taught by Will Hines\nat Online
DTSTART;TZID=America/Los_Angeles:20250919T090000
DTEND;TZID=America/Los_Angeles:20250919T110000
LOCATION:Online
END:VEVENT
BEGIN:VEVENT
UID:cd059c6094126ff6406051348580b8ae
DTSTAMP:20260423T095741Z
SUMMARY:Game Talk - 4 Weeks (2/4)
DESCRIPTION:taught by Will Hines\nat Online
DTSTART;TZID=America/Los_Angeles:20251003T090000
DTEND;TZID=America/Los_Angeles:20251003T110000
LOCATION:Online
END:VEVENT
BEGIN:VEVENT
UID:e9374114165cecd18c14bf24e806629f
DTSTAMP:20260423T095741Z
SUMMARY:Game Talk - 4 Weeks (3/4)
DESCRIPTION:taught by Will Hines\nat Online
DTSTART;TZID=America/Los_Angeles:20251010T090000
DTEND;TZID=America/Los_Angeles:20251010T110000
LOCATION:Online
END:VEVENT
BEGIN:VEVENT
UID:b22abb6ae947b032495179b045b8935a
DTSTAMP:20260423T095741Z
SUMMARY:Game Talk - 4 Weeks (4/4)
DESCRIPTION:taught by Will Hines\nat Online
DTSTART;TZID=America/Los_Angeles:20251017T090000
DTEND;TZID=America/Los_Angeles:20251017T110000
LOCATION:Online
END:VEVENT
BEGIN:VTIMEZONE
TZID:America/Los_Angeles
BEGIN:DAYLIGHT
DTSTART:20260401T000000
TZNAME:PDT
TZOFFSETTO:-0700
TZOFFSETFROM:-0700
END:DAYLIGHT
END:VTIMEZONE
END:VCALENDAR
