BEGIN:VCALENDAR
PRODID:-//eluceo/ical//2.0/EN
VERSION:2.0
CALSCALE:GREGORIAN
BEGIN:VEVENT
UID:cda2a693f61e73e26465b2b3904eec0a
DTSTAMP:20260423T101413Z
SUMMARY:Noon Bitness - October 2025 (1/13)
DESCRIPTION:taught by Will Hines and Sarah Claspell\nat WGIS Space
DTSTART;TZID=America/Los_Angeles:20251006T120000
DTEND;TZID=America/Los_Angeles:20251006T140000
LOCATION:WGIS Space
END:VEVENT
BEGIN:VEVENT
UID:42c803f6a78337e8bd6ea66bdcaf3bcb
DTSTAMP:20260423T101413Z
SUMMARY:Noon Bitness - October 2025 (2/13)
DESCRIPTION:taught by Will Hines and Sarah Claspell\nat WGIS Space
DTSTART;TZID=America/Los_Angeles:20251007T120000
DTEND;TZID=America/Los_Angeles:20251007T140000
LOCATION:WGIS Space
END:VEVENT
BEGIN:VEVENT
UID:85e3fedcc88bd497d341d62fe633a1c8
DTSTAMP:20260423T101413Z
SUMMARY:Noon Bitness - October 2025 (3/13)
DESCRIPTION:taught by Will Hines and Sarah Claspell\nat WGIS Space
DTSTART;TZID=America/Los_Angeles:20251009T120000
DTEND;TZID=America/Los_Angeles:20251009T140000
LOCATION:WGIS Space
END:VEVENT
BEGIN:VEVENT
UID:28b68cdb471b656ee5c4b17462f8901b
DTSTAMP:20260423T101413Z
SUMMARY:Noon Bitness - October 2025 (4/13)
DESCRIPTION:taught by Will Hines and Sarah Claspell\nat WGIS Space
DTSTART;TZID=America/Los_Angeles:20251010T120000
DTEND;TZID=America/Los_Angeles:20251010T140000
LOCATION:WGIS Space
END:VEVENT
BEGIN:VEVENT
UID:db5e454e79301fa90d2d37356520370c
DTSTAMP:20260423T101413Z
SUMMARY:Noon Bitness - October 2025 (5/13)
DESCRIPTION:taught by Will Hines and Sarah Claspell\nat WGIS Space
DTSTART;TZID=America/Los_Angeles:20251013T120000
DTEND;TZID=America/Los_Angeles:20251013T140000
LOCATION:WGIS Space
END:VEVENT
BEGIN:VEVENT
UID:cb712a8a1621aa2e86891c0295790d70
DTSTAMP:20260423T101413Z
SUMMARY:Noon Bitness - October 2025 (6/13)
DESCRIPTION:taught by Will Hines and Sarah Claspell\nat WGIS Space
DTSTART;TZID=America/Los_Angeles:20251014T120000
DTEND;TZID=America/Los_Angeles:20251014T140000
LOCATION:WGIS Space
END:VEVENT
BEGIN:VEVENT
UID:45195c06c76f81109c09d99e8aeca098
DTSTAMP:20260423T101413Z
SUMMARY:Noon Bitness - October 2025 (7/13)
DESCRIPTION:taught by Will Hines and Sarah Claspell\nat WGIS Space
DTSTART;TZID=America/Los_Angeles:20251016T120000
DTEND;TZID=America/Los_Angeles:20251016T140000
LOCATION:WGIS Space
END:VEVENT
BEGIN:VEVENT
UID:09709f268934e7b8830ec8fee17b7715
DTSTAMP:20260423T101413Z
SUMMARY:Noon Bitness - October 2025 (8/13)
DESCRIPTION:taught by Will Hines and Sarah Claspell\nat WGIS Space
DTSTART;TZID=America/Los_Angeles:20251017T120000
DTEND;TZID=America/Los_Angeles:20251017T140000
LOCATION:WGIS Space
END:VEVENT
BEGIN:VEVENT
UID:2c336eccfcefc9a4379d8071e9af2261
DTSTAMP:20260423T101413Z
SUMMARY:Noon Bitness - October 2025 (9/13)
DESCRIPTION:taught by Will Hines and Sarah Claspell\nat WGIS Space
DTSTART;TZID=America/Los_Angeles:20251020T120000
DTEND;TZID=America/Los_Angeles:20251020T140000
LOCATION:WGIS Space
END:VEVENT
BEGIN:VEVENT
UID:287df2f30fcdca3463749d19950e00f4
DTSTAMP:20260423T101413Z
SUMMARY:Noon Bitness - October 2025 (10/13)
DESCRIPTION:taught by Will Hines and Sarah Claspell\nat WGIS Space
DTSTART;TZID=America/Los_Angeles:20251021T120000
DTEND;TZID=America/Los_Angeles:20251021T140000
LOCATION:WGIS Space
END:VEVENT
BEGIN:VEVENT
UID:1281cdf76ff686cddec2d42965128064
DTSTAMP:20260423T101413Z
SUMMARY:Noon Bitness - October 2025 (11/13)
DESCRIPTION:taught by Will Hines and Sarah Claspell\nat WGIS Space
DTSTART;TZID=America/Los_Angeles:20251023T120000
DTEND;TZID=America/Los_Angeles:20251023T140000
LOCATION:WGIS Space
END:VEVENT
BEGIN:VEVENT
UID:a57982916487c6c5e855b0fdb4101b90
DTSTAMP:20260423T101413Z
SUMMARY:Noon Bitness - October 2025 (12/13)
DESCRIPTION:taught by Will Hines and Sarah Claspell\nat WGIS Space
DTSTART;TZID=America/Los_Angeles:20251024T120000
DTEND;TZID=America/Los_Angeles:20251024T140000
LOCATION:WGIS Space
END:VEVENT
BEGIN:VEVENT
UID:b236dae08afe62a58ef5f41acf429aa8
DTSTAMP:20260423T101413Z
SUMMARY:Noon Bitness - October 2025 (13/13)
DESCRIPTION:taught by Will Hines and Sarah Claspell\nat WGIS Space
DTSTART;TZID=America/Los_Angeles:20251024T180000
DTEND;TZID=America/Los_Angeles:20251024T190000
LOCATION:WGIS Space
END:VEVENT
BEGIN:VTIMEZONE
TZID:America/Los_Angeles
BEGIN:DAYLIGHT
DTSTART:20260401T000000
TZNAME:PDT
TZOFFSETTO:-0700
TZOFFSETFROM:-0700
END:DAYLIGHT
END:VTIMEZONE
END:VCALENDAR
