BEGIN:VCALENDAR
PRODID:-//eluceo/ical//2.0/EN
VERSION:2.0
CALSCALE:GREGORIAN
BEGIN:VEVENT
UID:d903dde3430dd0fbf767ed73adfaef98
DTSTAMP:20260423T101652Z
SUMMARY:After-Noon Bitness - October 2025 (1/10)
DESCRIPTION:taught by Will Hines and Sarah Claspell\nat WGIS Space
DTSTART;TZID=America/Los_Angeles:20251006T141500
DTEND;TZID=America/Los_Angeles:20251006T161500
LOCATION:WGIS Space
END:VEVENT
BEGIN:VEVENT
UID:8928798fe8e79e50d2edeb6cfef76e53
DTSTAMP:20260423T101652Z
SUMMARY:After-Noon Bitness - October 2025 (2/10)
DESCRIPTION:taught by Will Hines and Sarah Claspell\nat WGIS Space
DTSTART;TZID=America/Los_Angeles:20251007T141500
DTEND;TZID=America/Los_Angeles:20251007T161500
LOCATION:WGIS Space
END:VEVENT
BEGIN:VEVENT
UID:83daf92f4c2fda49d0c819b1e02e92a7
DTSTAMP:20260423T101652Z
SUMMARY:After-Noon Bitness - October 2025 (3/10)
DESCRIPTION:taught by Will Hines and Sarah Claspell\nat WGIS Space
DTSTART;TZID=America/Los_Angeles:20251009T141500
DTEND;TZID=America/Los_Angeles:20251009T161500
LOCATION:WGIS Space
END:VEVENT
BEGIN:VEVENT
UID:93a097198bd85037bd6f39582979a0d2
DTSTAMP:20260423T101652Z
SUMMARY:After-Noon Bitness - October 2025 (4/10)
DESCRIPTION:taught by Will Hines and Sarah Claspell\nat WGIS Space
DTSTART;TZID=America/Los_Angeles:20251013T141500
DTEND;TZID=America/Los_Angeles:20251013T161500
LOCATION:WGIS Space
END:VEVENT
BEGIN:VEVENT
UID:47d022ed342dd72ea6d6569d689932ca
DTSTAMP:20260423T101652Z
SUMMARY:After-Noon Bitness - October 2025 (5/10)
DESCRIPTION:taught by Will Hines and Sarah Claspell\nat WGIS Space
DTSTART;TZID=America/Los_Angeles:20251014T141500
DTEND;TZID=America/Los_Angeles:20251014T161500
LOCATION:WGIS Space
END:VEVENT
BEGIN:VEVENT
UID:3c6e1b8b08dc941def7d98e84d9078df
DTSTAMP:20260423T101652Z
SUMMARY:After-Noon Bitness - October 2025 (6/10)
DESCRIPTION:taught by Will Hines and Sarah Claspell\nat WGIS Space
DTSTART;TZID=America/Los_Angeles:20251016T141500
DTEND;TZID=America/Los_Angeles:20251016T161500
LOCATION:WGIS Space
END:VEVENT
BEGIN:VEVENT
UID:5133fe60945a9062c67a64e4c03661da
DTSTAMP:20260423T101652Z
SUMMARY:After-Noon Bitness - October 2025 (7/10)
DESCRIPTION:taught by Will Hines and Sarah Claspell\nat WGIS Space
DTSTART;TZID=America/Los_Angeles:20251020T141500
DTEND;TZID=America/Los_Angeles:20251020T161500
LOCATION:WGIS Space
END:VEVENT
BEGIN:VEVENT
UID:8ed3e3272263ee34ead4037462e96b1b
DTSTAMP:20260423T101652Z
SUMMARY:After-Noon Bitness - October 2025 (8/10)
DESCRIPTION:taught by Will Hines and Sarah Claspell\nat WGIS Space
DTSTART;TZID=America/Los_Angeles:20251021T141500
DTEND;TZID=America/Los_Angeles:20251021T161500
LOCATION:WGIS Space
END:VEVENT
BEGIN:VEVENT
UID:04c9c1a2252a22d39bfe077da735a1f5
DTSTAMP:20260423T101652Z
SUMMARY:After-Noon Bitness - October 2025 (9/10)
DESCRIPTION:taught by Will Hines and Sarah Claspell\nat WGIS Space
DTSTART;TZID=America/Los_Angeles:20251023T141500
DTEND;TZID=America/Los_Angeles:20251023T161500
LOCATION:WGIS Space
END:VEVENT
BEGIN:VEVENT
UID:80be1f727d3db6fd36def7460032fc14
DTSTAMP:20260423T101652Z
SUMMARY:After-Noon Bitness - October 2025 (10/10)
DESCRIPTION:taught by Will Hines and Sarah Claspell\nat WGIS Space
DTSTART;TZID=America/Los_Angeles:20251024T180000
DTEND;TZID=America/Los_Angeles:20251024T190000
LOCATION:WGIS Space
END:VEVENT
BEGIN:VTIMEZONE
TZID:America/Los_Angeles
BEGIN:DAYLIGHT
DTSTART:20260401T000000
TZNAME:PDT
TZOFFSETTO:-0700
TZOFFSETFROM:-0700
END:DAYLIGHT
END:VTIMEZONE
END:VCALENDAR
