BEGIN:VCALENDAR
PRODID:-//eluceo/ical//2.0/EN
VERSION:2.0
CALSCALE:GREGORIAN
BEGIN:VEVENT
UID:d41bc37a5ff4b332a1686557fb3a4d9f
DTSTAMP:20260423T101608Z
SUMMARY:Night Bitness - October 2025 (1/9)
DESCRIPTION:taught by Joel Spence\nat Clubhouse Downstairs
DTSTART;TZID=America/Los_Angeles:20251008T180000
DTEND;TZID=America/Los_Angeles:20251008T200000
LOCATION:Clubhouse Downstairs
END:VEVENT
BEGIN:VEVENT
UID:c4191deee2f24b95b8ca467d081fd45a
DTSTAMP:20260423T101608Z
SUMMARY:Night Bitness - October 2025 (2/9)
DESCRIPTION:taught by Joel Spence\nat Clubhouse Downstairs
DTSTART;TZID=America/Los_Angeles:20251009T180000
DTEND;TZID=America/Los_Angeles:20251009T200000
LOCATION:Clubhouse Downstairs
END:VEVENT
BEGIN:VEVENT
UID:6f46ad64ff25f31670fa9ee62c9ca7dd
DTSTAMP:20260423T101608Z
SUMMARY:Night Bitness - October 2025 (3/9)
DESCRIPTION:taught by Joel Spence\nat Clubhouse Downstairs
DTSTART;TZID=America/Los_Angeles:20251015T180000
DTEND;TZID=America/Los_Angeles:20251015T200000
LOCATION:Clubhouse Downstairs
END:VEVENT
BEGIN:VEVENT
UID:4252fba49282d0c3966669668b73588e
DTSTAMP:20260423T101608Z
SUMMARY:Night Bitness - October 2025 (4/9)
DESCRIPTION:taught by Joel Spence\nat Clubhouse Downstairs
DTSTART;TZID=America/Los_Angeles:20251016T180000
DTEND;TZID=America/Los_Angeles:20251016T200000
LOCATION:Clubhouse Downstairs
END:VEVENT
BEGIN:VEVENT
UID:eb9e0fc2aef9a4c21402b2d4ad5a018d
DTSTAMP:20260423T101608Z
SUMMARY:Night Bitness - October 2025 (5/9)
DESCRIPTION:taught by Joel Spence\nat Clubhouse Downstairs
DTSTART;TZID=America/Los_Angeles:20251022T180000
DTEND;TZID=America/Los_Angeles:20251022T200000
LOCATION:Clubhouse Downstairs
END:VEVENT
BEGIN:VEVENT
UID:e9351fa4794613bd83b975ebc81d58f6
DTSTAMP:20260423T101608Z
SUMMARY:Night Bitness - October 2025 (6/9)
DESCRIPTION:taught by Joel Spence\nat Clubhouse Downstairs
DTSTART;TZID=America/Los_Angeles:20251023T180000
DTEND;TZID=America/Los_Angeles:20251023T200000
LOCATION:Clubhouse Downstairs
END:VEVENT
BEGIN:VEVENT
UID:b0efaf65660d3156e4bbb7a15d08c24a
DTSTAMP:20260423T101608Z
SUMMARY:Night Bitness - October 2025 (7/9)
DESCRIPTION:taught by Joel Spence\nat Clubhouse Downstairs
DTSTART;TZID=America/Los_Angeles:20251029T180000
DTEND;TZID=America/Los_Angeles:20251029T200000
LOCATION:Clubhouse Downstairs
END:VEVENT
BEGIN:VEVENT
UID:daac2ef30e2d4a6cedb19480b39ce311
DTSTAMP:20260423T101608Z
SUMMARY:Night Bitness - October 2025 (8/9)
DESCRIPTION:taught by Joel Spence\nat Clubhouse Downstairs
DTSTART;TZID=America/Los_Angeles:20251030T180000
DTEND;TZID=America/Los_Angeles:20251030T200000
LOCATION:Clubhouse Downstairs
END:VEVENT
BEGIN:VEVENT
UID:d8cd2ba663745d30c44cbb6f679d4b9d
DTSTAMP:20260423T101608Z
SUMMARY:Night Bitness - October 2025 (9/9)
DESCRIPTION:taught by Joel Spence\nat WGIS Space
DTSTART;TZID=America/Los_Angeles:20251031T180000
DTEND;TZID=America/Los_Angeles:20251031T190000
LOCATION:WGIS Space
END:VEVENT
BEGIN:VTIMEZONE
TZID:America/Los_Angeles
BEGIN:DAYLIGHT
DTSTART:20260401T000000
TZNAME:PDT
TZOFFSETTO:-0700
TZOFFSETFROM:-0700
END:DAYLIGHT
END:VTIMEZONE
END:VCALENDAR
