BEGIN:VCALENDAR
PRODID:-//eluceo/ical//2.0/EN
VERSION:2.0
CALSCALE:GREGORIAN
BEGIN:VEVENT
UID:ca31a244508a2298a82614a250297c81
DTSTAMP:20260423T101413Z
SUMMARY:Craig Cackowski's Improv Class (1/4)
DESCRIPTION:taught by Craig Cackowski\nat WGIS Space
DTSTART;TZID=America/Los_Angeles:20251006T190000
DTEND;TZID=America/Los_Angeles:20251006T220000
LOCATION:WGIS Space
END:VEVENT
BEGIN:VEVENT
UID:d493dacb3c4b04673f83f2480e3a4407
DTSTAMP:20260423T101413Z
SUMMARY:Craig Cackowski's Improv Class (2/4)
DESCRIPTION:taught by Craig Cackowski\nat WGIS Space
DTSTART;TZID=America/Los_Angeles:20251013T190000
DTEND;TZID=America/Los_Angeles:20251013T220000
LOCATION:WGIS Space
END:VEVENT
BEGIN:VEVENT
UID:9ff708ba2912e3d3d13cc069ae5a9976
DTSTAMP:20260423T101413Z
SUMMARY:Craig Cackowski's Improv Class (3/4)
DESCRIPTION:taught by Craig Cackowski\nat WGIS Space
DTSTART;TZID=America/Los_Angeles:20251020T190000
DTEND;TZID=America/Los_Angeles:20251020T220000
LOCATION:WGIS Space
END:VEVENT
BEGIN:VEVENT
UID:538cfb12002688100d9f14a7983f01a8
DTSTAMP:20260423T101413Z
SUMMARY:Craig Cackowski's Improv Class (4/4)
DESCRIPTION:taught by Craig Cackowski\nat WGIS Space
DTSTART;TZID=America/Los_Angeles:20251027T190000
DTEND;TZID=America/Los_Angeles:20251027T220000
LOCATION:WGIS Space
END:VEVENT
BEGIN:VTIMEZONE
TZID:America/Los_Angeles
BEGIN:DAYLIGHT
DTSTART:20260401T000000
TZNAME:PDT
TZOFFSETTO:-0700
TZOFFSETFROM:-0700
END:DAYLIGHT
END:VTIMEZONE
END:VCALENDAR
