BEGIN:VCALENDAR
PRODID:-//eluceo/ical//2.0/EN
VERSION:2.0
CALSCALE:GREGORIAN
BEGIN:VEVENT
UID:68b3cd1c5876f6d7c89d0e3730449fc2
DTSTAMP:20260423T101653Z
SUMMARY:Bob Dassie's Improv Mindset (1/4)
DESCRIPTION:taught by Bob Dassie\nat WGIS Space
DTSTART;TZID=America/Los_Angeles:20251007T190000
DTEND;TZID=America/Los_Angeles:20251007T220000
LOCATION:WGIS Space
END:VEVENT
BEGIN:VEVENT
UID:69a2f65f575512777112bd1ce5a284f1
DTSTAMP:20260423T101653Z
SUMMARY:Bob Dassie's Improv Mindset (2/4)
DESCRIPTION:taught by Bob Dassie\nat WGIS Space
DTSTART;TZID=America/Los_Angeles:20251014T190000
DTEND;TZID=America/Los_Angeles:20251014T220000
LOCATION:WGIS Space
END:VEVENT
BEGIN:VEVENT
UID:9db285917f85ca9b9a640ad951e7bd09
DTSTAMP:20260423T101653Z
SUMMARY:Bob Dassie's Improv Mindset (3/4)
DESCRIPTION:taught by Bob Dassie\nat WGIS Space
DTSTART;TZID=America/Los_Angeles:20251021T190000
DTEND;TZID=America/Los_Angeles:20251021T220000
LOCATION:WGIS Space
END:VEVENT
BEGIN:VEVENT
UID:9a720ae9b18e97eaa94fba01025d65ee
DTSTAMP:20260423T101653Z
SUMMARY:Bob Dassie's Improv Mindset (4/4)
DESCRIPTION:taught by Bob Dassie\nat WGIS Space
DTSTART;TZID=America/Los_Angeles:20251028T190000
DTEND;TZID=America/Los_Angeles:20251028T220000
LOCATION:WGIS Space
END:VEVENT
BEGIN:VTIMEZONE
TZID:America/Los_Angeles
BEGIN:DAYLIGHT
DTSTART:20260401T000000
TZNAME:PDT
TZOFFSETTO:-0700
TZOFFSETFROM:-0700
END:DAYLIGHT
END:VTIMEZONE
END:VCALENDAR
