BEGIN:VCALENDAR
PRODID:-//eluceo/ical//2.0/EN
VERSION:2.0
CALSCALE:GREGORIAN
BEGIN:VEVENT
UID:2ae3ec5efe12e7432e75df308f35a0b4
DTSTAMP:20260423T085155Z
SUMMARY:1000 Genres (1/3)
DESCRIPTION:taught by Billy Merritt\nat Online
DTSTART;TZID=America/Los_Angeles:20251010T090000
DTEND;TZID=America/Los_Angeles:20251010T110000
LOCATION:Online
END:VEVENT
BEGIN:VEVENT
UID:0961a8cabf62ae2009e1094efb2a31d8
DTSTAMP:20260423T085155Z
SUMMARY:1000 Genres (2/3)
DESCRIPTION:taught by Billy Merritt\nat Online
DTSTART;TZID=America/Los_Angeles:20251017T090000
DTEND;TZID=America/Los_Angeles:20251017T110000
LOCATION:Online
END:VEVENT
BEGIN:VEVENT
UID:a59347df3caab58d4193e8fe3fa2db48
DTSTAMP:20260423T085155Z
SUMMARY:1000 Genres (3/3)
DESCRIPTION:taught by Billy Merritt\nat Online
DTSTART;TZID=America/Los_Angeles:20251024T090000
DTEND;TZID=America/Los_Angeles:20251024T110000
LOCATION:Online
END:VEVENT
BEGIN:VTIMEZONE
TZID:America/Los_Angeles
BEGIN:DAYLIGHT
DTSTART:20260401T000000
TZNAME:PDT
TZOFFSETTO:-0700
TZOFFSETFROM:-0700
END:DAYLIGHT
END:VTIMEZONE
END:VCALENDAR
