BEGIN:VCALENDAR
PRODID:-//eluceo/ical//2.0/EN
VERSION:2.0
CALSCALE:GREGORIAN
BEGIN:VEVENT
UID:5b2b56a22bc9ca73cde3704039eee983
DTSTAMP:20260423T101652Z
SUMMARY:Finding Truth And Playing It (1/2)
DESCRIPTION:taught by Sebastian Conelli\nat Cre8tive NYC
DTSTART;TZID=America/New_York:20251009T190000
DTEND;TZID=America/New_York:20251009T213000
LOCATION:Cre8tive NYC
END:VEVENT
BEGIN:VEVENT
UID:c39bc0effd41d45dba723407034ec6f3
DTSTAMP:20260423T101652Z
SUMMARY:Finding Truth And Playing It (2/2)
DESCRIPTION:taught by Sebastian Conelli\nat Cre8tive NYC
DTSTART;TZID=America/New_York:20251016T190000
DTEND;TZID=America/New_York:20251016T213000
LOCATION:Cre8tive NYC
END:VEVENT
BEGIN:VTIMEZONE
TZID:America/New_York
BEGIN:DAYLIGHT
DTSTART:20260401T000000
TZNAME:EDT
TZOFFSETTO:-0400
TZOFFSETFROM:-0400
END:DAYLIGHT
END:VTIMEZONE
END:VCALENDAR
