BEGIN:VCALENDAR
PRODID:-//eluceo/ical//2.0/EN
VERSION:2.0
CALSCALE:GREGORIAN
BEGIN:VEVENT
UID:6695af33a7ee3d30476c737d1a4e8c2a
DTSTAMP:20260425T103953Z
SUMMARY:Level 1: Intro To Improv (1/6)
DESCRIPTION:taught by Andrew Sproge\nat Lounge on Melrose
DTSTART;TZID=America/Los_Angeles:20251020T190000
DTEND;TZID=America/Los_Angeles:20251020T213000
LOCATION:Lounge on Melrose
END:VEVENT
BEGIN:VEVENT
UID:3db6716ef146157d0b3054f927abdcfd
DTSTAMP:20260425T103953Z
SUMMARY:Level 1: Intro To Improv (2/6)
DESCRIPTION:taught by Andrew Sproge\nat Lounge on Melrose
DTSTART;TZID=America/Los_Angeles:20251027T190000
DTEND;TZID=America/Los_Angeles:20251027T213000
LOCATION:Lounge on Melrose
END:VEVENT
BEGIN:VEVENT
UID:9d862912c1ec7b1ac596d32acd6a616f
DTSTAMP:20260425T103953Z
SUMMARY:Level 1: Intro To Improv (3/6)
DESCRIPTION:taught by Andrew Sproge\nat Lounge on Melrose
DTSTART;TZID=America/Los_Angeles:20251103T190000
DTEND;TZID=America/Los_Angeles:20251103T213000
LOCATION:Lounge on Melrose
END:VEVENT
BEGIN:VEVENT
UID:9a99bc9c78849d269a34b64dc8c6e8c0
DTSTAMP:20260425T103953Z
SUMMARY:Level 1: Intro To Improv (4/6)
DESCRIPTION:taught by Andrew Sproge\nat Lounge on Melrose
DTSTART;TZID=America/Los_Angeles:20251110T190000
DTEND;TZID=America/Los_Angeles:20251110T213000
LOCATION:Lounge on Melrose
END:VEVENT
BEGIN:VEVENT
UID:4307adec6948b88959475ba68bdbd1d5
DTSTAMP:20260425T103953Z
SUMMARY:Level 1: Intro To Improv (5/6)
DESCRIPTION:taught by Andrew Sproge\nat Lounge on Melrose
DTSTART;TZID=America/Los_Angeles:20251117T190000
DTEND;TZID=America/Los_Angeles:20251117T213000
LOCATION:Lounge on Melrose
END:VEVENT
BEGIN:VEVENT
UID:1b0a33bb8f2f1b7564bd80c5d635376f
DTSTAMP:20260425T103953Z
SUMMARY:Level 1: Intro To Improv (6/6)
DESCRIPTION:taught by Andrew Sproge\nat WGIS Space
DTSTART;TZID=America/Los_Angeles:20251120T180000
DTEND;TZID=America/Los_Angeles:20251120T190000
LOCATION:WGIS Space
END:VEVENT
BEGIN:VTIMEZONE
TZID:America/Los_Angeles
BEGIN:DAYLIGHT
DTSTART:20260401T000000
TZNAME:PDT
TZOFFSETTO:-0700
TZOFFSETFROM:-0700
END:DAYLIGHT
END:VTIMEZONE
END:VCALENDAR
