BEGIN:VCALENDAR
PRODID:-//eluceo/ical//2.0/EN
VERSION:2.0
CALSCALE:GREGORIAN
BEGIN:VEVENT
UID:c7e7018b0e741f57856377fad3ccbebe
DTSTAMP:20260423T115342Z
SUMMARY:Night Bitness - November 2025 (1/6)
DESCRIPTION:taught by Joel Spence\nat Clubhouse Downstairs
DTSTART;TZID=America/Los_Angeles:20251105T180000
DTEND;TZID=America/Los_Angeles:20251105T200000
LOCATION:Clubhouse Downstairs
END:VEVENT
BEGIN:VEVENT
UID:c915dac70eea28bde6d44d6eeae5c0ce
DTSTAMP:20260423T115342Z
SUMMARY:Night Bitness - November 2025 (2/6)
DESCRIPTION:taught by Joel Spence\nat Clubhouse Downstairs
DTSTART;TZID=America/Los_Angeles:20251106T180000
DTEND;TZID=America/Los_Angeles:20251106T200000
LOCATION:Clubhouse Downstairs
END:VEVENT
BEGIN:VEVENT
UID:c6541029d1924a596e5c938eac32d72e
DTSTAMP:20260423T115342Z
SUMMARY:Night Bitness - November 2025 (3/6)
DESCRIPTION:taught by Joel Spence\nat Clubhouse Downstairs
DTSTART;TZID=America/Los_Angeles:20251112T180000
DTEND;TZID=America/Los_Angeles:20251112T200000
LOCATION:Clubhouse Downstairs
END:VEVENT
BEGIN:VEVENT
UID:5482b094d640effcabb0d83f6f0cd25a
DTSTAMP:20260423T115342Z
SUMMARY:Night Bitness - November 2025 (4/6)
DESCRIPTION:taught by Joel Spence\nat Clubhouse Downstairs
DTSTART;TZID=America/Los_Angeles:20251113T180000
DTEND;TZID=America/Los_Angeles:20251113T200000
LOCATION:Clubhouse Downstairs
END:VEVENT
BEGIN:VEVENT
UID:8b704cf54f7f4cd2d7cb7666da293ea2
DTSTAMP:20260423T115342Z
SUMMARY:Night Bitness - November 2025 (5/6)
DESCRIPTION:taught by Joel Spence\nat Clubhouse Downstairs
DTSTART;TZID=America/Los_Angeles:20251119T180000
DTEND;TZID=America/Los_Angeles:20251119T200000
LOCATION:Clubhouse Downstairs
END:VEVENT
BEGIN:VEVENT
UID:a801f3cb1f72ccc8ac143223fcf1268a
DTSTAMP:20260423T115342Z
SUMMARY:Night Bitness - November 2025 (6/6)
DESCRIPTION:taught by Joel Spence\nat Clubhouse Downstairs
DTSTART;TZID=America/Los_Angeles:20251120T180000
DTEND;TZID=America/Los_Angeles:20251120T200000
LOCATION:Clubhouse Downstairs
END:VEVENT
BEGIN:VTIMEZONE
TZID:America/Los_Angeles
BEGIN:DAYLIGHT
DTSTART:20260401T000000
TZNAME:PDT
TZOFFSETTO:-0700
TZOFFSETFROM:-0700
END:DAYLIGHT
END:VTIMEZONE
END:VCALENDAR
