BEGIN:VCALENDAR
PRODID:-//eluceo/ical//2.0/EN
VERSION:2.0
CALSCALE:GREGORIAN
BEGIN:VEVENT
UID:40aef28ed79cbea08ded456c2ab736f0
DTSTAMP:20260423T114658Z
SUMMARY:Noon Bitness - November 2025 (1/13)
DESCRIPTION:taught by Will Hines and Sarah Claspell\nat WGIS Space
DTSTART;TZID=America/Los_Angeles:20251103T120000
DTEND;TZID=America/Los_Angeles:20251103T140000
LOCATION:WGIS Space
END:VEVENT
BEGIN:VEVENT
UID:1742a5c9b48feed70a2b1fee98ef9362
DTSTAMP:20260423T114658Z
SUMMARY:Noon Bitness - November 2025 (2/13)
DESCRIPTION:taught by Will Hines and Sarah Claspell\nat WGIS Space
DTSTART;TZID=America/Los_Angeles:20251104T120000
DTEND;TZID=America/Los_Angeles:20251104T140000
LOCATION:WGIS Space
END:VEVENT
BEGIN:VEVENT
UID:cb676c0f3fa6d4d003f471dea09d22a9
DTSTAMP:20260423T114658Z
SUMMARY:Noon Bitness - November 2025 (3/13)
DESCRIPTION:taught by Will Hines and Sarah Claspell\nat WGIS Space
DTSTART;TZID=America/Los_Angeles:20251106T120000
DTEND;TZID=America/Los_Angeles:20251106T140000
LOCATION:WGIS Space
END:VEVENT
BEGIN:VEVENT
UID:f7cccfc314a016e2d8f61d137cfb7006
DTSTAMP:20260423T114658Z
SUMMARY:Noon Bitness - November 2025 (4/13)
DESCRIPTION:taught by Will Hines and Sarah Claspell\nat WGIS Space
DTSTART;TZID=America/Los_Angeles:20251107T120000
DTEND;TZID=America/Los_Angeles:20251107T140000
LOCATION:WGIS Space
END:VEVENT
BEGIN:VEVENT
UID:6218cb4c529e7648fba86465ece391b6
DTSTAMP:20260423T114658Z
SUMMARY:Noon Bitness - November 2025 (5/13)
DESCRIPTION:taught by Will Hines and Sarah Claspell\nat WGIS Space
DTSTART;TZID=America/Los_Angeles:20251110T120000
DTEND;TZID=America/Los_Angeles:20251110T140000
LOCATION:WGIS Space
END:VEVENT
BEGIN:VEVENT
UID:8c9e067c5e913b8c7c24501f527ab3ef
DTSTAMP:20260423T114658Z
SUMMARY:Noon Bitness - November 2025 (6/13)
DESCRIPTION:taught by Will Hines and Sarah Claspell\nat WGIS Space
DTSTART;TZID=America/Los_Angeles:20251111T120000
DTEND;TZID=America/Los_Angeles:20251111T140000
LOCATION:WGIS Space
END:VEVENT
BEGIN:VEVENT
UID:7b78e138e7613cc19e09a771467045e7
DTSTAMP:20260423T114658Z
SUMMARY:Noon Bitness - November 2025 (7/13)
DESCRIPTION:taught by Will Hines and Sarah Claspell\nat WGIS Space
DTSTART;TZID=America/Los_Angeles:20251113T120000
DTEND;TZID=America/Los_Angeles:20251113T140000
LOCATION:WGIS Space
END:VEVENT
BEGIN:VEVENT
UID:855a2b7656bc540430e826650af9ad08
DTSTAMP:20260423T114658Z
SUMMARY:Noon Bitness - November 2025 (8/13)
DESCRIPTION:taught by Will Hines and Sarah Claspell\nat WGIS Space
DTSTART;TZID=America/Los_Angeles:20251114T120000
DTEND;TZID=America/Los_Angeles:20251114T140000
LOCATION:WGIS Space
END:VEVENT
BEGIN:VEVENT
UID:8fb3b7212d5e08fa3724cd85b93f57bd
DTSTAMP:20260423T114658Z
SUMMARY:Noon Bitness - November 2025 (9/13)
DESCRIPTION:taught by Will Hines and Sarah Claspell\nat WGIS Space
DTSTART;TZID=America/Los_Angeles:20251117T120000
DTEND;TZID=America/Los_Angeles:20251117T140000
LOCATION:WGIS Space
END:VEVENT
BEGIN:VEVENT
UID:5bf0af9bce2d1116cf768f79f07583bc
DTSTAMP:20260423T114658Z
SUMMARY:Noon Bitness - November 2025 (10/13)
DESCRIPTION:taught by Will Hines and Sarah Claspell\nat WGIS Space
DTSTART;TZID=America/Los_Angeles:20251118T120000
DTEND;TZID=America/Los_Angeles:20251118T140000
LOCATION:WGIS Space
END:VEVENT
BEGIN:VEVENT
UID:80f88b31726bdf5446a4919f27548e00
DTSTAMP:20260423T114658Z
SUMMARY:Noon Bitness - November 2025 (11/13)
DESCRIPTION:taught by Will Hines and Sarah Claspell\nat WGIS Space
DTSTART;TZID=America/Los_Angeles:20251120T120000
DTEND;TZID=America/Los_Angeles:20251120T140000
LOCATION:WGIS Space
END:VEVENT
BEGIN:VEVENT
UID:0760b98e41e336cb307a396c900bb376
DTSTAMP:20260423T114658Z
SUMMARY:Noon Bitness - November 2025 (12/13)
DESCRIPTION:taught by Will Hines and Sarah Claspell\nat WGIS Space
DTSTART;TZID=America/Los_Angeles:20251121T120000
DTEND;TZID=America/Los_Angeles:20251121T140000
LOCATION:WGIS Space
END:VEVENT
BEGIN:VEVENT
UID:2bbdd055a541a6db361de11f84a02b10
DTSTAMP:20260423T114658Z
SUMMARY:Noon Bitness - November 2025 (13/13)
DESCRIPTION:taught by Will Hines and Sarah Claspell\nat WGIS Space
DTSTART;TZID=America/Los_Angeles:20251121T180000
DTEND;TZID=America/Los_Angeles:20251121T190000
LOCATION:WGIS Space
END:VEVENT
BEGIN:VTIMEZONE
TZID:America/Los_Angeles
BEGIN:DAYLIGHT
DTSTART:20260401T000000
TZNAME:PDT
TZOFFSETTO:-0700
TZOFFSETFROM:-0700
END:DAYLIGHT
END:VTIMEZONE
END:VCALENDAR
