BEGIN:VCALENDAR
PRODID:-//eluceo/ical//2.0/EN
VERSION:2.0
CALSCALE:GREGORIAN
BEGIN:VEVENT
UID:663566d8a3f3d8e3348f792300398f98
DTSTAMP:20260423T101413Z
SUMMARY:Advanced Flow: Game and Mapping (1/4)
DESCRIPTION:taught by Will Hines\nat Kingsley Studios LA
DTSTART;TZID=America/Los_Angeles:20251029T190000
DTEND;TZID=America/Los_Angeles:20251029T213000
LOCATION:Kingsley Studios LA
END:VEVENT
BEGIN:VEVENT
UID:35340ef02cc31bfadfe4239b4f7d5541
DTSTAMP:20260423T101413Z
SUMMARY:Advanced Flow: Game and Mapping (2/4)
DESCRIPTION:taught by Will Hines\nat Kingsley Studios LA
DTSTART;TZID=America/Los_Angeles:20251105T190000
DTEND;TZID=America/Los_Angeles:20251105T213000
LOCATION:Kingsley Studios LA
END:VEVENT
BEGIN:VEVENT
UID:9670cf3a056d3a6c1acb33525f219c9e
DTSTAMP:20260423T101413Z
SUMMARY:Advanced Flow: Game and Mapping (3/4)
DESCRIPTION:taught by Will Hines\nat Kingsley Studios LA
DTSTART;TZID=America/Los_Angeles:20251112T190000
DTEND;TZID=America/Los_Angeles:20251112T213000
LOCATION:Kingsley Studios LA
END:VEVENT
BEGIN:VEVENT
UID:7ff129e737d198ce4885b463b2ddcc70
DTSTAMP:20260423T101413Z
SUMMARY:Advanced Flow: Game and Mapping (4/4)
DESCRIPTION:taught by Will Hines\nat Kingsley Studios LA
DTSTART;TZID=America/Los_Angeles:20251119T190000
DTEND;TZID=America/Los_Angeles:20251119T213000
LOCATION:Kingsley Studios LA
END:VEVENT
BEGIN:VTIMEZONE
TZID:America/Los_Angeles
BEGIN:DAYLIGHT
DTSTART:20260401T000000
TZNAME:PDT
TZOFFSETTO:-0700
TZOFFSETFROM:-0700
END:DAYLIGHT
END:VTIMEZONE
END:VCALENDAR
