BEGIN:VCALENDAR
PRODID:-//eluceo/ical//2.0/EN
VERSION:2.0
CALSCALE:GREGORIAN
BEGIN:VEVENT
UID:f2236942ce7083804e96b3a901004bb1
DTSTAMP:20260423T115042Z
SUMMARY:Finding Your Funny (1/2)
DESCRIPTION:taught by Sebastian Conelli\nat Cre8tive NYC
DTSTART;TZID=America/New_York:20251109T150000
DTEND;TZID=America/New_York:20251109T173000
LOCATION:Cre8tive NYC
END:VEVENT
BEGIN:VEVENT
UID:8c3b693dbc1241b5e7daee24f3f7ca01
DTSTAMP:20260423T115042Z
SUMMARY:Finding Your Funny (2/2)
DESCRIPTION:taught by Sebastian Conelli\nat Cre8tive NYC
DTSTART;TZID=America/New_York:20251116T150000
DTEND;TZID=America/New_York:20251116T173000
LOCATION:Cre8tive NYC
END:VEVENT
BEGIN:VTIMEZONE
TZID:America/New_York
BEGIN:DAYLIGHT
DTSTART:20260401T000000
TZNAME:EDT
TZOFFSETTO:-0400
TZOFFSETFROM:-0400
END:DAYLIGHT
END:VTIMEZONE
END:VCALENDAR
