BEGIN:VCALENDAR
PRODID:-//eluceo/ical//2.0/EN
VERSION:2.0
CALSCALE:GREGORIAN
BEGIN:VEVENT
UID:ea8c1147e9852703574c411b95bb75ab
DTSTAMP:20260423T115433Z
SUMMARY:Get Weird: Crashganics (1/4)
DESCRIPTION:taught by Shannon O'Neill\nat Cre8tive NYC
DTSTART;TZID=America/New_York:20251113T190000
DTEND;TZID=America/New_York:20251113T213000
LOCATION:Cre8tive NYC
END:VEVENT
BEGIN:VEVENT
UID:52a08f359f5e6cd9bdff9810e2f12156
DTSTAMP:20260423T115433Z
SUMMARY:Get Weird: Crashganics (2/4)
DESCRIPTION:taught by Shannon O'Neill\nat Cre8tive NYC
DTSTART;TZID=America/New_York:20251120T190000
DTEND;TZID=America/New_York:20251120T213000
LOCATION:Cre8tive NYC
END:VEVENT
BEGIN:VEVENT
UID:53c8cc82c1efbb2dca30d02d7fb2fbab
DTSTAMP:20260423T115433Z
SUMMARY:Get Weird: Crashganics (3/4)
DESCRIPTION:taught by Shannon O'Neill\nat Cre8tive NYC
DTSTART;TZID=America/New_York:20251204T190000
DTEND;TZID=America/New_York:20251204T213000
LOCATION:Cre8tive NYC
END:VEVENT
BEGIN:VEVENT
UID:6b5febce06ffe7b48474cba6d852f84b
DTSTAMP:20260423T115433Z
SUMMARY:Get Weird: Crashganics (4/4)
DESCRIPTION:taught by Shannon O'Neill\nat Cre8tive NYC
DTSTART;TZID=America/New_York:20251211T190000
DTEND;TZID=America/New_York:20251211T213000
LOCATION:Cre8tive NYC
END:VEVENT
BEGIN:VTIMEZONE
TZID:America/New_York
BEGIN:DAYLIGHT
DTSTART:20260401T000000
TZNAME:EDT
TZOFFSETTO:-0400
TZOFFSETFROM:-0400
END:DAYLIGHT
END:VTIMEZONE
END:VCALENDAR
