BEGIN:VCALENDAR
PRODID:-//eluceo/ical//2.0/EN
VERSION:2.0
CALSCALE:GREGORIAN
BEGIN:VEVENT
UID:b563eb58a4a4759d5665070e02054c42
DTSTAMP:20260423T132534Z
SUMMARY:Notes and Growth (1/2)
DESCRIPTION:taught by Shannon O'Neill\nat Cre8tive NYC
DTSTART;TZID=America/New_York:20251209T190000
DTEND;TZID=America/New_York:20251209T213000
LOCATION:Cre8tive NYC
END:VEVENT
BEGIN:VEVENT
UID:2dad832ac0ee4bb014ce247e777fbc97
DTSTAMP:20260423T132534Z
SUMMARY:Notes and Growth (2/2)
DESCRIPTION:taught by Shannon O'Neill\nat Cre8tive NYC
DTSTART;TZID=America/New_York:20251216T190000
DTEND;TZID=America/New_York:20251216T213000
LOCATION:Cre8tive NYC
END:VEVENT
BEGIN:VTIMEZONE
TZID:America/New_York
BEGIN:DAYLIGHT
DTSTART:20260401T000000
TZNAME:EDT
TZOFFSETTO:-0400
TZOFFSETFROM:-0400
END:DAYLIGHT
END:VTIMEZONE
END:VCALENDAR
