BEGIN:VCALENDAR
PRODID:-//eluceo/ical//2.0/EN
VERSION:2.0
CALSCALE:GREGORIAN
BEGIN:VEVENT
UID:1e58e191cecba4d9791f6d0b73cc714c
DTSTAMP:20260423T085235Z
SUMMARY:Game Talk - 4 Weeks (1/4)
DESCRIPTION:taught by Will Hines\nat Online
DTSTART;TZID=America/Los_Angeles:20251031T090000
DTEND;TZID=America/Los_Angeles:20251031T110000
LOCATION:Online
END:VEVENT
BEGIN:VEVENT
UID:980ca7cfbf8c86787daf64db23f37334
DTSTAMP:20260423T085235Z
SUMMARY:Game Talk - 4 Weeks (2/4)
DESCRIPTION:taught by Will Hines\nat Online
DTSTART;TZID=America/Los_Angeles:20251114T090000
DTEND;TZID=America/Los_Angeles:20251114T110000
LOCATION:Online
END:VEVENT
BEGIN:VEVENT
UID:b24cc9c21723db4862948d99e8f36ac4
DTSTAMP:20260423T085235Z
SUMMARY:Game Talk - 4 Weeks (3/4)
DESCRIPTION:taught by Will Hines\nat Online
DTSTART;TZID=America/Los_Angeles:20251128T090000
DTEND;TZID=America/Los_Angeles:20251128T110000
LOCATION:Online
END:VEVENT
BEGIN:VEVENT
UID:54944ec2039b6fe62767af3f96d938bf
DTSTAMP:20260423T085235Z
SUMMARY:Game Talk - 4 Weeks (4/4)
DESCRIPTION:taught by Will Hines\nat Online
DTSTART;TZID=America/Los_Angeles:20251205T090000
DTEND;TZID=America/Los_Angeles:20251205T110000
LOCATION:Online
END:VEVENT
BEGIN:VTIMEZONE
TZID:America/Los_Angeles
BEGIN:DAYLIGHT
DTSTART:20260401T000000
TZNAME:PDT
TZOFFSETTO:-0700
TZOFFSETFROM:-0700
END:DAYLIGHT
END:VTIMEZONE
END:VCALENDAR
