BEGIN:VCALENDAR
PRODID:-//eluceo/ical//2.0/EN
VERSION:2.0
CALSCALE:GREGORIAN
BEGIN:VEVENT
UID:f7c2952ad7092399a06e22d7f3cf09d4
DTSTAMP:20260423T133331Z
SUMMARY:1000 Scenes (1/1)
DESCRIPTION:taught by Billy Merritt\nat Online
DTSTART;TZID=America/Los_Angeles:20251212T090000
DTEND;TZID=America/Los_Angeles:20251212T110000
LOCATION:Online
END:VEVENT
BEGIN:VTIMEZONE
TZID:America/Los_Angeles
BEGIN:DAYLIGHT
DTSTART:20260401T000000
TZNAME:PDT
TZOFFSETTO:-0700
TZOFFSETFROM:-0700
END:DAYLIGHT
END:VTIMEZONE
END:VCALENDAR
