BEGIN:VCALENDAR
PRODID:-//eluceo/ical//2.0/EN
VERSION:2.0
CALSCALE:GREGORIAN
BEGIN:VEVENT
UID:2991f2d36c00cb096addbd40ff7ade08
DTSTAMP:20260423T114659Z
SUMMARY:Take Up Space (1/1)
DESCRIPTION:taught by Sarah Claspell\nat The Pack
DTSTART;TZID=America/Los_Angeles:20251123T110000
DTEND;TZID=America/Los_Angeles:20251123T133000
LOCATION:The Pack
END:VEVENT
BEGIN:VTIMEZONE
TZID:America/Los_Angeles
BEGIN:DAYLIGHT
DTSTART:20260401T000000
TZNAME:PDT
TZOFFSETTO:-0700
TZOFFSETFROM:-0700
END:DAYLIGHT
END:VTIMEZONE
END:VCALENDAR
