BEGIN:VCALENDAR
PRODID:-//eluceo/ical//2.0/EN
VERSION:2.0
CALSCALE:GREGORIAN
BEGIN:VEVENT
UID:54bd0f7243b54bc6d71d266f9ab111e1
DTSTAMP:20260423T132356Z
SUMMARY:Yes Your Way to Character (1/2)
DESCRIPTION:taught by Sebastian Conelli\nat Cre8tive NYC
DTSTART;TZID=America/New_York:20251207T150000
DTEND;TZID=America/New_York:20251207T173000
LOCATION:Cre8tive NYC
END:VEVENT
BEGIN:VEVENT
UID:13706a2a7994e105b55a6becdb6eacb9
DTSTAMP:20260423T132356Z
SUMMARY:Yes Your Way to Character (2/2)
DESCRIPTION:taught by Sebastian Conelli\nat Cre8tive NYC
DTSTART;TZID=America/New_York:20251214T150000
DTEND;TZID=America/New_York:20251214T173000
LOCATION:Cre8tive NYC
END:VEVENT
BEGIN:VTIMEZONE
TZID:America/New_York
BEGIN:DAYLIGHT
DTSTART:20260401T000000
TZNAME:EDT
TZOFFSETTO:-0400
TZOFFSETFROM:-0400
END:DAYLIGHT
END:VTIMEZONE
END:VCALENDAR
