BEGIN:VCALENDAR
PRODID:-//eluceo/ical//2.0/EN
VERSION:2.0
CALSCALE:GREGORIAN
BEGIN:VEVENT
UID:8b468da4db964570e1ec91bc428c9c3a
DTSTAMP:20260423T132422Z
SUMMARY:The Mid-Scene Fix (1/1)
DESCRIPTION:taught by Sebastian Conelli\nat Cre8tive NYC
DTSTART;TZID=America/New_York:20251213T150000
DTEND;TZID=America/New_York:20251213T173000
LOCATION:Cre8tive NYC
END:VEVENT
BEGIN:VTIMEZONE
TZID:America/New_York
BEGIN:DAYLIGHT
DTSTART:20260401T000000
TZNAME:EDT
TZOFFSETTO:-0400
TZOFFSETFROM:-0400
END:DAYLIGHT
END:VTIMEZONE
END:VCALENDAR
