BEGIN:VCALENDAR
PRODID:-//eluceo/ical//2.0/EN
VERSION:2.0
CALSCALE:GREGORIAN
BEGIN:VEVENT
UID:51ad8f87443210512dc7641dc86ef09a
DTSTAMP:20260423T132714Z
SUMMARY:Saturday Drop In - 1/3 (1/1)
DESCRIPTION:taught by Carla Cackowski\nat WGIS Space
DTSTART;TZID=America/Los_Angeles:20260103T100000
DTEND;TZID=America/Los_Angeles:20260103T120000
LOCATION:WGIS Space
END:VEVENT
BEGIN:VTIMEZONE
TZID:America/Los_Angeles
BEGIN:DAYLIGHT
DTSTART:20260401T000000
TZNAME:PDT
TZOFFSETTO:-0700
TZOFFSETFROM:-0700
END:DAYLIGHT
END:VTIMEZONE
END:VCALENDAR
