BEGIN:VCALENDAR
PRODID:-//eluceo/ical//2.0/EN
VERSION:2.0
CALSCALE:GREGORIAN
BEGIN:VEVENT
UID:494f0a42ced58fd8e6016edb0095b235
DTSTAMP:20260419T120434Z
SUMMARY:Empathy Driven Improv (1/6)
DESCRIPTION:taught by Jim Wood$\nat WGIS Space
DTSTART;TZID=America/Los_Angeles:20260301T120000
DTEND;TZID=America/Los_Angeles:20260301T150000
LOCATION:WGIS Space
END:VEVENT
BEGIN:VEVENT
UID:d42c4a0ca6cf17b503b83df8f57519fb
DTSTAMP:20260419T120434Z
SUMMARY:Empathy Driven Improv (2/6)
DESCRIPTION:taught by Jim Wood$\nat WGIS Space
DTSTART;TZID=America/Los_Angeles:20260308T120000
DTEND;TZID=America/Los_Angeles:20260308T150000
LOCATION:WGIS Space
END:VEVENT
BEGIN:VEVENT
UID:9c9bff592922c1c8ed1173713d7bfe32
DTSTAMP:20260419T120434Z
SUMMARY:Empathy Driven Improv (3/6)
DESCRIPTION:taught by Jim Wood$\nat WGIS Space
DTSTART;TZID=America/Los_Angeles:20260315T120000
DTEND;TZID=America/Los_Angeles:20260315T150000
LOCATION:WGIS Space
END:VEVENT
BEGIN:VEVENT
UID:f87d9da5dbecdbf9fc60c2211752935b
DTSTAMP:20260419T120434Z
SUMMARY:Empathy Driven Improv (4/6)
DESCRIPTION:taught by Jim Wood$\nat WGIS Space
DTSTART;TZID=America/Los_Angeles:20260329T120000
DTEND;TZID=America/Los_Angeles:20260329T150000
LOCATION:WGIS Space
END:VEVENT
BEGIN:VEVENT
UID:56f2f1448fa7f7ded8fff7ff47f6851d
DTSTAMP:20260419T120434Z
SUMMARY:Empathy Driven Improv (5/6)
DESCRIPTION:taught by Jim Wood$\nat WGIS Space
DTSTART;TZID=America/Los_Angeles:20260412T120000
DTEND;TZID=America/Los_Angeles:20260412T150000
LOCATION:WGIS Space
END:VEVENT
BEGIN:VEVENT
UID:b7d85f60fbe5b141adbeefa5f4f0ea3a
DTSTAMP:20260419T120434Z
SUMMARY:Empathy Driven Improv (6/6)
DESCRIPTION:taught by Jim Wood$\nat WGIS Space
DTSTART;TZID=America/Los_Angeles:20260419T120000
DTEND;TZID=America/Los_Angeles:20260419T150000
LOCATION:WGIS Space
END:VEVENT
BEGIN:VTIMEZONE
TZID:America/Los_Angeles
BEGIN:DAYLIGHT
DTSTART:20260401T000000
TZNAME:PDT
TZOFFSETTO:-0700
TZOFFSETFROM:-0700
END:DAYLIGHT
END:VTIMEZONE
END:VCALENDAR
