BEGIN:VCALENDAR
PRODID:-//eluceo/ical//2.0/EN
VERSION:2.0
CALSCALE:GREGORIAN
BEGIN:VEVENT
UID:62f1f3d9008718341e03863eb93bef11
DTSTAMP:20260419T133116Z
SUMMARY:Advanced Refresher-4 week class (1/4)
DESCRIPTION:taught by Eugene Cordero\nat WGIS Studio 3
DTSTART;TZID=America/Los_Angeles:20260302T190000
DTEND;TZID=America/Los_Angeles:20260302T220000
LOCATION:WGIS Studio 3
END:VEVENT
BEGIN:VEVENT
UID:ed3d589469177eb272b37511f5ddb02a
DTSTAMP:20260419T133116Z
SUMMARY:Advanced Refresher-4 week class (2/4)
DESCRIPTION:taught by Eugene Cordero\nat WGIS Studio 3
DTSTART;TZID=America/Los_Angeles:20260309T190000
DTEND;TZID=America/Los_Angeles:20260309T220000
LOCATION:WGIS Studio 3
END:VEVENT
BEGIN:VEVENT
UID:75f3a31646fb41141ee31b869ae386b0
DTSTAMP:20260419T133116Z
SUMMARY:Advanced Refresher-4 week class (3/4)
DESCRIPTION:taught by Eugene Cordero\nat WGIS Studio 3
DTSTART;TZID=America/Los_Angeles:20260316T190000
DTEND;TZID=America/Los_Angeles:20260316T220000
LOCATION:WGIS Studio 3
END:VEVENT
BEGIN:VEVENT
UID:895efb2d7b24d1b4d5314f302e914f3b
DTSTAMP:20260419T133116Z
SUMMARY:Advanced Refresher-4 week class (4/4)
DESCRIPTION:taught by Eugene Cordero\nat WGIS Studio 3
DTSTART;TZID=America/Los_Angeles:20260330T190000
DTEND;TZID=America/Los_Angeles:20260330T220000
LOCATION:WGIS Studio 3
END:VEVENT
BEGIN:VTIMEZONE
TZID:America/Los_Angeles
BEGIN:DAYLIGHT
DTSTART:20260401T000000
TZNAME:PDT
TZOFFSETTO:-0700
TZOFFSETFROM:-0700
END:DAYLIGHT
END:VTIMEZONE
END:VCALENDAR
