BEGIN:VCALENDAR
PRODID:-//eluceo/ical//2.0/EN
VERSION:2.0
CALSCALE:GREGORIAN
BEGIN:VEVENT
UID:01df57d38093fe93189a559dcefd61c1
DTSTAMP:20260424T100857Z
SUMMARY:Big Time Yes! (1/4)
DESCRIPTION:taught by Ryan Rosenberg\nat Online
DTSTART;TZID=America/Los_Angeles:20260316T100000
DTEND;TZID=America/Los_Angeles:20260316T120000
LOCATION:Online
END:VEVENT
BEGIN:VEVENT
UID:6b8429130b3f51ab9bb6263c49b61e86
DTSTAMP:20260424T100857Z
SUMMARY:Big Time Yes! (2/4)
DESCRIPTION:taught by Ryan Rosenberg\nat Online
DTSTART;TZID=America/Los_Angeles:20260323T100000
DTEND;TZID=America/Los_Angeles:20260323T120000
LOCATION:Online
END:VEVENT
BEGIN:VEVENT
UID:7083bca57ae3ed4826bb8eb435db57e1
DTSTAMP:20260424T100857Z
SUMMARY:Big Time Yes! (3/4)
DESCRIPTION:taught by Ryan Rosenberg\nat Online
DTSTART;TZID=America/Los_Angeles:20260330T100000
DTEND;TZID=America/Los_Angeles:20260330T120000
LOCATION:Online
END:VEVENT
BEGIN:VEVENT
UID:db5dbd37164cd34c1ee9a669bb55f45d
DTSTAMP:20260424T100857Z
SUMMARY:Big Time Yes! (4/4)
DESCRIPTION:taught by Ryan Rosenberg\nat Online
DTSTART;TZID=America/Los_Angeles:20260406T100000
DTEND;TZID=America/Los_Angeles:20260406T120000
LOCATION:Online
END:VEVENT
BEGIN:VTIMEZONE
TZID:America/Los_Angeles
BEGIN:DAYLIGHT
DTSTART:20260401T000000
TZNAME:PDT
TZOFFSETTO:-0700
TZOFFSETFROM:-0700
END:DAYLIGHT
END:VTIMEZONE
END:VCALENDAR
