BEGIN:VCALENDAR
PRODID:-//eluceo/ical//2.0/EN
VERSION:2.0
CALSCALE:GREGORIAN
BEGIN:VEVENT
UID:7cdbd0cca5949aa7ae82bfc23003dc35
DTSTAMP:20260424T101556Z
SUMMARY:Playing Game With Strangers (1/4)
DESCRIPTION:taught by Jake Regal\nat Online
DTSTART;TZID=America/Los_Angeles:20260311T170000
DTEND;TZID=America/Los_Angeles:20260311T190000
LOCATION:Online
END:VEVENT
BEGIN:VEVENT
UID:4be56ef03e9b51e0329bc5e97b9ef1a8
DTSTAMP:20260424T101556Z
SUMMARY:Playing Game With Strangers (2/4)
DESCRIPTION:taught by Jake Regal\nat Online
DTSTART;TZID=America/Los_Angeles:20260318T170000
DTEND;TZID=America/Los_Angeles:20260318T190000
LOCATION:Online
END:VEVENT
BEGIN:VEVENT
UID:d17c72b31013834dafe93d81f9f8844f
DTSTAMP:20260424T101556Z
SUMMARY:Playing Game With Strangers (3/4)
DESCRIPTION:taught by Jake Regal\nat Online
DTSTART;TZID=America/Los_Angeles:20260325T170000
DTEND;TZID=America/Los_Angeles:20260325T190000
LOCATION:Online
END:VEVENT
BEGIN:VEVENT
UID:78666a3ee606f0fcf2566e0bc51bdfaa
DTSTAMP:20260424T101556Z
SUMMARY:Playing Game With Strangers (4/4)
DESCRIPTION:taught by Jake Regal\nat Online
DTSTART;TZID=America/Los_Angeles:20260401T170000
DTEND;TZID=America/Los_Angeles:20260401T190000
LOCATION:Online
END:VEVENT
BEGIN:VTIMEZONE
TZID:America/Los_Angeles
BEGIN:DAYLIGHT
DTSTART:20260401T000000
TZNAME:PDT
TZOFFSETTO:-0700
TZOFFSETFROM:-0700
END:DAYLIGHT
END:VTIMEZONE
END:VCALENDAR
